BEGIN:VCALENDAR
VERSION:2.0
PRODID:-//ppi.communityadvocates.net//NONSGML kigkonsult.se iCalcreator 2.3
 0.10//
CALSCALE:GREGORIAN
METHOD:PUBLISH
UID:48b9f19f-ea2b-44c6-9a37-9270e28715a7
X-WR-CALDESC:<b>Please Note: The Adult Mental Health First Aid course consi
 sts of two hours of self-paced content followed by six hours of instructor
 -led training. The self-paced computer training must be completed at least
  three days prior to the beginning of the course and the one-hour self-pac
 ed post session computer training must be completed as well in order for a
 ttendees to obtain certification. Registration ends December 12 at 12 noon
 .</b>\n\nMental Health First Aid teaches you how to identify\, understand 
 and respond to signs of mental illness and substance use disorders. This t
 raining gives you the skills you need to reach out and provide initial sup
 port to someone who may be developing a mental health or substance use pro
 blem and help connect them to the appropriate care.\n\nWhat the Mental Hea
 lth First Aid Course offers:\nâ€¢ Common signs and symptoms of mental illnes
 s\nâ€¢ Common signs and symptoms of substance use\nâ€¢ How to interact with a 
 person in crisis\nâ€¢ How to connect the person with help\nâ€¢ Content on trau
 ma\, addiction\, and self-care\n\nThe course will teach you how to apply t
 he ALGEE action plan:\nâ€¢ Assess for risk of suicide or harm.\nâ€¢ Listen non
 judgmentally.\nâ€¢ Give reassurance and information.\nâ€¢ Encourage appropriat
 e professional help.\nâ€¢ Encourage self-help and other support strategies.
 \n\n<b>This session is free and open to everyone. We appreciate your inter
 est in learning more about mental health and wellness.</b>
X-WR-RELCALID:2afbab91ee0f48b961b4ffada861a1f3
X-WR-TIMEZONE:America/Chicago
BEGIN:VTIMEZONE
TZID:America/Chicago
BEGIN:STANDARD
TZNAME:CST
DTSTART:20241103T020000
TZOFFSETFROM:-0500
TZOFFSETTO:-0600
RDATE:20251102T020000
END:STANDARD
BEGIN:DAYLIGHT
TZNAME:CDT
DTSTART:20240310T020000
TZOFFSETFROM:-0600
TZOFFSETTO:-0500
RDATE:20250309T020000
RDATE:20260308T020000
END:DAYLIGHT
END:VTIMEZONE
BEGIN:VEVENT
UID:da22ee94-fd74-40c6-8754-20062303f884
DTSTAMP:20260420T140809Z
DESCRIPTION:<b>Please Note: The Adult Mental Health First Aid course consis
 ts of two hours of self-paced content followed by six hours of instructor-
 led training. The self-paced computer training must be completed at least 
 three days prior to the beginning of the course and the one-hour self-pace
 d post session computer training must be completed as well in order for at
 tendees to obtain certification. Registration ends December 12 at 12 noon.
 </b>\n\nMental Health First Aid teaches you how to identify\, understand a
 nd respond to signs of mental illness and substance use disorders. This tr
 aining gives you the skills you need to reach out and provide initial supp
 ort to someone who may be developing a mental health or substance use prob
 lem and help connect them to the appropriate care.\n\nWhat the Mental Heal
 th First Aid Course offers:\nâ€¢ Common signs and symptoms of mental illness
 \nânâ Common signs and symptoms of substance use\nâ€¢ How to interact with a p
 erson in crisis\nâ€¢ How to connect the person with help\nâ€¢ Content on traum
 a\, addiction\, and self-care\n\nThe course will teach you how to apply th
 e ALGEE action plan:\nâ€¢ Assess for risk of suicide or harm.\nâ€¢ Listen nonj
 udgmentally.\nâ€¢ Give reassurance and information.\nâ€¢ Encourage appropriate
  professional help.\nâ€¢ Encourage self-help and other support strategies.\n
 \n<b>This session is free and open to everyone. We appreciate your interes
 t in learning more about mental health and wellness.</b>
DTSTART;TZID=America/Chicago:20241218T090000
DTEND;TZID=America/Chicago:20241218T153000
LOCATION:Via Zoom
SUMMARY:Adult Mental Health First Aid | December 18\, 2024
END:VEVENT
END:VCALENDAR
