BEGIN:VCALENDAR
VERSION:2.0
PRODID:-//ppi.communityadvocates.net//NONSGML kigkonsult.se iCalcreator 2.3
 0.10//
CALSCALE:GREGORIAN
METHOD:PUBLISH
UID:b66cff12-beed-4ab9-853c-b27597b8c408
X-WR-CALDESC:RISE Drug Free MKE is proud to be a title sponsor of Healing S
 tarts Today's Rhythm and Soles 5K Walk/Run to honor International Overdose
  Awareness Day on August 31\, 2024\, at Veterans Park in Milwaukee. It is 
 a special time for remembrance without stigma and to acknowledge family\, 
 friends\, and survivors.\n\nSchedule of Events:\n9:30 a.m. - Registration 
 Begins\n9:45 a.m. - Narcan Training\n10 a.m. - Speaker\n10:30 a.m. Yoga\n1
 1 a.m. - Remembrance Run/Walk Kick-Off\n12:30 p.m. - Yoga\n1:30 p.m. - Nar
 can Training\n2 p.m. - Speaker - Laura Haas\n3 p.m. - Meditation\n5 p.m. -
  Event Concludes\n\nShuttle services will be available from Washington Par
 k and Mitchell Park to Veterans Park. Shuttles will run from 10 a.m. to 5 
 p.m.
X-WR-RELCALID:be2f28cfacfcbcd7cab9b507d6e09362
X-WR-TIMEZONE:America/Chicago
BEGIN:VTIMEZONE
TZID:America/Chicago
BEGIN:STANDARD
TZNAME:CST
DTSTART:20231105T020000
TZOFFSETFROM:-0500
TZOFFSETTO:-0600
RDATE:20241103T020000
RDATE:20251102T020000
END:STANDARD
BEGIN:DAYLIGHT
TZNAME:CDT
DTSTART:20240310T020000
TZOFFSETFROM:-0600
TZOFFSETTO:-0500
RDATE:20250309T020000
END:DAYLIGHT
END:VTIMEZONE
BEGIN:VEVENT
UID:2870e4fe-3812-4ca0-b574-377519fcc2f1
DTSTAMP:20260421T104636Z
DESCRIPTION:RISE Drug Free MKE is proud to be a title sponsor of Healing St
 arts Today's Rhythm and Soles 5K Walk/Run to honor International Overdose 
 Awareness Day on August 31\, 2024\, at Veterans Park in Milwaukee. It is a
  special time for remembrance without stigma and to acknowledge family\, f
 riends\, and survivors.\n\nSchedule of Events:\n9:30 a.m. - Registration B
 egins\n9:45 a.m. - Narcan Training\n10 a.m. - Speaker\n10:30 a.m. Yoga\n11
  a.m. - Remembrance Run/Walk Kick-Off\n12:30 p.m. - Yoga\n1:30 p.m. - Narc
 an Training\n2 p.m. - Speaker - Laura Haas\n3 p.m. - Meditation\n5 p.m. - 
 Event Concludes\n\nShuttle services will be available from Washington Park
  and Mitchell Park to Veterans Park. Shuttles will run from 10 a.m. to 5 p
 .m.
DTSTART;TZID=America/Chicago:20240831T093000
DTEND;TZID=America/Chicago:20240831T170000
LOCATION:1010 N Lincoln Memorial Drive\, Milwaukee\, WI 53202 US
SUMMARY:International Overdose Awareness Day Event
END:VEVENT
END:VCALENDAR
