BEGIN:VCALENDAR
VERSION:2.0
PRODID:-//ppi.communityadvocates.net//NONSGML kigkonsult.se iCalcreator 2.3
 0.10//
CALSCALE:GREGORIAN
METHOD:PUBLISH
UID:1ae85773-4ae3-4a3a-83aa-8f125fd5b431
X-WR-CALDESC:<b>Registration has closed for this session. Click the link be
 low to learn more about ECOM.</b>\n\nThe Empowerment Coalition of Milwauke
 e (ECOM) is a monthly gathering of social services professionals\, advocat
 es\, and consumers organized by Community Advocates Public Policy Institut
 e. ECOM meets the third Wednesday of the month throughout the year (except
  December) and explores topics that are vital to Milwaukee’s human service
 s professionals. This month's topic is LGBTQ+ Services.\n\nFee is $5 for l
 ight refreshments and materials and can be paid via credit card. Registrat
 ions are not refundable. Kindly make sure to RSVP by the Friday prior to e
 ach meeting.
X-WR-RELCALID:bd495ae87252964ec76ac0dc6d065549
X-WR-TIMEZONE:America/Chicago
BEGIN:VTIMEZONE
TZID:America/Chicago
BEGIN:STANDARD
TZNAME:CST
DTSTART:20231105T020000
TZOFFSETFROM:-0500
TZOFFSETTO:-0600
RDATE:20241103T020000
RDATE:20251102T020000
END:STANDARD
BEGIN:DAYLIGHT
TZNAME:CDT
DTSTART:20240310T020000
TZOFFSETFROM:-0600
TZOFFSETTO:-0500
RDATE:20250309T020000
END:DAYLIGHT
END:VTIMEZONE
BEGIN:VEVENT
UID:f1aa6f00-e471-41cb-9b25-eabecb9b4442
DTSTAMP:20260421T104352Z
DESCRIPTION:<b>Registration has closed for this session. Click the link bel
 ow to learn more about ECOM.</b>\n\nThe Empowerment Coalition of Milwaukee
  (ECOM) is a monthly gathering of social services professionals\, advocate
 s\, and consumers organized by Community Advocates Public Policy Institute
 . ECOM meets the third Wednesday of the month throughout the year (except 
 December) and explores topics that are vital to Milwaukee’s human services
  professionals. This month's topic is LGBTQ+ Services.\n\nFee is $5 for li
 ght refreshments and materials and can be paid via credit card. Registrati
 ons are not refundable. Kindly make sure to RSVP by the Friday prior to ea
 ch meeting.
DTSTART;TZID=America/Chicago:20240626T090000
DTEND;TZID=America/Chicago:20240626T120000
LOCATION:Location TBD
SUMMARY:ECOM Workshop: LGBTQ+ Services
END:VEVENT
END:VCALENDAR
