BEGIN:VCALENDAR
VERSION:2.0
PRODID:-//ppi.communityadvocates.net//NONSGML kigkonsult.se iCalcreator 2.3
 0.10//
CALSCALE:GREGORIAN
METHOD:PUBLISH
UID:e691d42f-a54f-4874-899e-dcd9c346950e
X-WR-CALDESC:How well do you cope with stress? And can stress ever be good 
 for you?\n\nIn this two-hour webinar\, participants will be able to: \n+ I
 dentify the early warning signs of stress\, types of stress\, and effects 
 of stress\n+ Understand positive and negative coping styles\, plus your pe
 rsonal coping style\n+ Learn specific skills to cope well with and thrive 
 from stress\n\n\n<b>This session is open to everyone and is offered free o
 f charge. We appreciate your interest in learning more about mental health
  and wellness.</b>
X-WR-RELCALID:e08bbb4dc7cb8de9681ef5e0b92610d9
X-WR-TIMEZONE:America/Chicago
BEGIN:VTIMEZONE
TZID:America/Chicago
BEGIN:STANDARD
TZNAME:CST
DTSTART:20231105T020000
TZOFFSETFROM:-0500
TZOFFSETTO:-0600
RDATE:20241103T020000
RDATE:20251102T020000
END:STANDARD
BEGIN:DAYLIGHT
TZNAME:CDT
DTSTART:20240310T020000
TZOFFSETFROM:-0600
TZOFFSETTO:-0500
RDATE:20250309T020000
END:DAYLIGHT
END:VTIMEZONE
BEGIN:VEVENT
UID:5577e0c7-e138-4e17-b9b0-ec913079f64e
DTSTAMP:20260421T104519Z
DESCRIPTION:How well do you cope with stress? And can stress ever be good f
 or you?\n\nIn this two-hour webinar\, participants will be able to: \n+ Id
 entify the early warning signs of stress\, types of stress\, and effects o
 f stress\n+ Understand positive and negative coping styles\, plus your per
 sonal coping style\n+ Learn specific skills to cope well with and thrive f
 rom stress\n\n\n<b>This session is open to everyone and is offered free of
  charge. We appreciate your interest in learning more about mental health 
 and wellness.</b>
DTSTART;TZID=America/Chicago:20240624T100000
DTEND;TZID=America/Chicago:20240624T120000
LOCATION:Via Zoom
SUMMARY:Resilience and Thriving: The Secret Power of Stress  | June 24\, 20
 24
END:VEVENT
END:VCALENDAR
