BEGIN:VCALENDAR
VERSION:2.0
PRODID:-//ppi.communityadvocates.net//NONSGML kigkonsult.se iCalcreator 2.3
 0.10//
CALSCALE:GREGORIAN
METHOD:PUBLISH
UID:7049cc88-c152-44d3-9150-39cc66b7b6c4
X-WR-CALDESC:Our offices will be closed on Wednesday\, June 19\, to observe
  Juneteenth. Many of our staff members will be at the Junteenth Milwaukee 
 Jubilee Parade and Celebration. See you there!
X-WR-RELCALID:b2b83d99014c16e49d0c6bb9f4f99697
X-WR-TIMEZONE:America/Chicago
BEGIN:VTIMEZONE
TZID:America/Chicago
BEGIN:STANDARD
TZNAME:CST
DTSTART:20231105T020000
TZOFFSETFROM:-0500
TZOFFSETTO:-0600
RDATE:20241103T020000
RDATE:20251102T020000
END:STANDARD
BEGIN:DAYLIGHT
TZNAME:CDT
DTSTART:20240310T020000
TZOFFSETFROM:-0600
TZOFFSETTO:-0500
RDATE:20250309T020000
END:DAYLIGHT
END:VTIMEZONE
BEGIN:VEVENT
UID:623f7774-55ed-443b-80ed-d28120236fda
DTSTAMP:20260421T104636Z
DESCRIPTION:Our offices will be closed on Wednesday\, June 19\, to observe 
 Juneteenth. Many of our staff members will be at the Junteenth Milwaukee J
 ubilee Parade and Celebration. See you there!
DTSTART;TZID=America/Chicago:20240619T050000
DTEND;TZID=America/Chicago:20240619T050001
LOCATION:
SUMMARY:Juneteenth
END:VEVENT
END:VCALENDAR
