BEGIN:VCALENDAR
VERSION:2.0
PRODID:-//ppi.communityadvocates.net//NONSGML kigkonsult.se iCalcreator 2.3
 0.10//
CALSCALE:GREGORIAN
METHOD:PUBLISH
UID:58077093-9565-4537-8590-0e4b66ab856c
X-WR-CALDESC:The Amani Stakeholders are planning two pop-up events hosted b
 y the 53206 Drug Free Community Project and Community Advocates Public Pol
 icy Institute to help neighborhoods get prepared for a safe and healthy su
 mmer. Partners will provide information on programs\, community resources\
 , prevention materials\, and Narcan training. They’ll be held from 12 to 2
  p.m. on June 11 and June 25. No need to register. All are welcome. Just s
 how up!
X-WR-RELCALID:7ac9164770121da797cdc66cd61e63d7
X-WR-TIMEZONE:America/Chicago
BEGIN:VTIMEZONE
TZID:America/Chicago
BEGIN:STANDARD
TZNAME:CST
DTSTART:20231105T020000
TZOFFSETFROM:-0500
TZOFFSETTO:-0600
RDATE:20241103T020000
RDATE:20251102T020000
END:STANDARD
BEGIN:DAYLIGHT
TZNAME:CDT
DTSTART:20240310T020000
TZOFFSETFROM:-0600
TZOFFSETTO:-0500
RDATE:20250309T020000
END:DAYLIGHT
END:VTIMEZONE
BEGIN:VEVENT
UID:c260608f-cc96-479b-af44-4ee6f92b0c49
DTSTAMP:20260421T104606Z
DESCRIPTION:The Amani Stakeholders are planning two pop-up events hosted by
  the 53206 Drug Free Community Project and Community Advocates Public Poli
 cy Institute to help neighborhoods get prepared for a safe and healthy sum
 mer. Partners will provide information on programs\, community resources\,
  prevention materials\, and Narcan training. They’ll be held from 12 to 2 
 p.m. on June 11 and June 25. No need to register. All are welcome. Just sh
 ow up!
DTSTART;TZID=America/Chicago:20240611T120000
DTEND;TZID=America/Chicago:20240611T140000
LOCATION:27th Street & Center Street
SUMMARY:Amani Neighborhood Pop-Up
END:VEVENT
END:VCALENDAR
