BEGIN:VCALENDAR
VERSION:2.0
PRODID:-//ppi.communityadvocates.net//NONSGML kigkonsult.se iCalcreator 2.3
 0.10//
CALSCALE:GREGORIAN
METHOD:PUBLISH
UID:72047e9a-d198-4e52-9a8c-5f366434597c
X-WR-CALDESC:In honor of Mental Health Awareness Month\, Community Advocate
 s and RISE Drug Free MKE invite community members for a walk in the park a
 nd to interact with seven stations with mental wellness activities and fre
 e resources from partnering organizations. Each attendee will automaticall
 y receive an entry to a raffle prize! No registration is required. This is
  a FREE\, family-friendly event. It's part of a Wellness Event Series to m
 ark Mental Health Awareness Month\, May 2024. Download the flyer below to 
 get more details.\n\nFREE mindful movement class at 11 a.m.!\nLearn coping
  skills!\nFree resources!\nActivity stations!\n\nPartners include: I Am Ch
 ronically Resilient\, The Village\, Community Advocates Public Policy Inst
 itute\, RISE Drug Free MKE\, Froedtert & Medical College of Wisconsin\, Wa
 uwatosa Health Department\, Escucha Tus Emociones\, and Milwaukee County P
 arks.
X-WR-RELCALID:a1d0874e70dbec03027d5ddb74eb45c7
X-WR-TIMEZONE:America/Chicago
BEGIN:VTIMEZONE
TZID:America/Chicago
BEGIN:STANDARD
TZNAME:CST
DTSTART:20231105T020000
TZOFFSETFROM:-0500
TZOFFSETTO:-0600
RDATE:20241103T020000
RDATE:20251102T020000
END:STANDARD
BEGIN:DAYLIGHT
TZNAME:CDT
DTSTART:20240310T020000
TZOFFSETFROM:-0600
TZOFFSETTO:-0500
RDATE:20250309T020000
END:DAYLIGHT
END:VTIMEZONE
BEGIN:VEVENT
UID:b7189d34-4402-4379-aedb-551b9b1ccd5b
DTSTAMP:20260421T092620Z
DESCRIPTION:In honor of Mental Health Awareness Month\, Community Advocates
  and RISE Drug Free MKE invite community members for a walk in the park an
 d to interact with seven stations with mental wellness activities and free
  resources from partnering organizations. Each attendee will automatically
  receive an entry to a raffle prize! No registration is required. This is 
 a FREE\, family-friendly event. It's part of a Wellness Event Series to ma
 rk Mental Health Awareness Month\, May 2024. Download the flyer below to g
 et more details.\n\nFREE mindful movement class at 11 a.m.!\nLearn coping 
 skills!\nFree resources!\nActivity stations!\n\nPartners include: I Am Chr
 onically Resilient\, The Village\, Community Advocates Public Policy Insti
 tute\, RISE Drug Free MKE\, Froedtert & Medical College of Wisconsin\, Wau
 watosa Health Department\, Escucha Tus Emociones\, and Milwaukee County Pa
 rks.
DTSTART;TZID=America/Chicago:20240518T100000
DTEND;TZID=America/Chicago:20240518T120000
LOCATION:Cathedral Square Park\, 520 E. Wells St.\, Milwaukee\, WI 53202 US
SUMMARY:Discover Wellness Walk
END:VEVENT
END:VCALENDAR
