BEGIN:VCALENDAR
VERSION:2.0
PRODID:-//ppi.communityadvocates.net//NONSGML kigkonsult.se iCalcreator 2.3
 0.10//
CALSCALE:GREGORIAN
METHOD:PUBLISH
UID:b6426bb3-42cb-4c17-900a-301e0ef7b2ad
X-WR-CALDESC:As a result of this workshop\, participants will gain a better
  understanding as to how trauma affects the brain\, discuss risk factors f
 or substance use disorders\, and develop their strategy for intervention m
 ethods for a particular population.\n\nWhat we will discuss:\n+ Trauma def
 inition\n+ How trauma affects the brain\n+ Statistics on substance use and
  ACEs\n+ Risk factors\n+ Strategies for care\n+ Stress reducers\n+ Priorit
 izing Risk Factors\n+ Beginning a Call to Action\n\n<b>This session is fre
 e and open to everyone. We appreciate your interest in learning more about
  mental health and wellness.</b>
X-WR-RELCALID:c7ce986c13683e332ed3ab558051661a
X-WR-TIMEZONE:America/Chicago
BEGIN:VTIMEZONE
TZID:America/Chicago
BEGIN:STANDARD
TZNAME:CST
DTSTART:20231105T020000
TZOFFSETFROM:-0500
TZOFFSETTO:-0600
RDATE:20241103T020000
END:STANDARD
BEGIN:DAYLIGHT
TZNAME:CDT
DTSTART:20240310T020000
TZOFFSETFROM:-0600
TZOFFSETTO:-0500
RDATE:20250309T020000
END:DAYLIGHT
END:VTIMEZONE
BEGIN:VEVENT
UID:4aafa108-05ec-48fd-9eaf-9b4b3af827e6
DTSTAMP:20260422T213306Z
DESCRIPTION:As a result of this workshop\, participants will gain a better 
 understanding as to how trauma affects the brain\, discuss risk factors fo
 r substance use disorders\, and develop their strategy for intervention me
 thods for a particular population.\n\nWhat we will discuss:\n+ Trauma defi
 nition\n+ How trauma affects the brain\n+ Statistics on substance use and 
 ACEs\n+ Risk factors\n+ Strategies for care\n+ Stress reducers\n+ Prioriti
 zing Risk Factors\n+ Beginning a Call to Action\n\n<b>This session is free
  and open to everyone. We appreciate your interest in learning more about 
 mental health and wellness.</b>
DTSTART;TZID=America/Chicago:20240430T090000
DTEND;TZID=America/Chicago:20240430T103000
LOCATION:Via Zoom
SUMMARY:Trauma and the Brain: An Introduction | April 30\, 2024
END:VEVENT
END:VCALENDAR
