BEGIN:VCALENDAR
VERSION:2.0
PRODID:-//ppi.communityadvocates.net//NONSGML kigkonsult.se iCalcreator 2.3
 0.10//
CALSCALE:GREGORIAN
METHOD:PUBLISH
UID:35c2d18b-9a14-4594-8a6c-a7e0727eb0c3
X-WR-CALDESC:<b>Este evento está lleno. Regístrese en la lista de espera en
  el siguiente enlace.</b>\n\nEscucha Tus Emociones te invita a este evento
  gratuito de sanación emocional. El círculo de sanación será facilitado po
 r la Psicóloga Ana Paula Soares y el invitado especial Taita y Maestro de 
 Chile Alejandro Cerda quienes compartirán la Medicina del Cacao como herra
 mienta de sanación emocional y comunitaria. Date un momento para sanar tu 
 corazón\, escuchar y ser escuchado. Este evento comunitario se llevará a c
 abo en español con interpretación al inglés.\n \nEl círculo de curación se
 rá gratuito para la comunidad gracias al apoyo y financiación de Community
  Advocates.\n \nPara tener una experiencia completa\, por favor llega a ti
 empo y quédate hasta el final del evento. Está diseñado para un público ad
 ulto y no se ofrecerá cuidado de niños. Se servirán refrigerios saludables
 .\n \nRegístrese en el enlace para garantizar su espacio en el círculo de 
 curación.\n\n///\n<b>This event is full. Please sign up for the wait list 
 at the link below.</b>\n\nEscucha Tus Emociones invites you to this free e
 vent of emotional healing with psychologist Ana Paula Soares and special g
 uest Elder and Taita Alejandro Cerada from Chile. Give yourself a moment d
 uring this Healing Circle with Cacao Medicine to heal your heart\, listen\
 , and be listened to. This community event will be conducted in Spanish wi
 th English interpretation provided. \n \nThe healing circle will be free t
 o the community thanks to the support and funding of Community Advocates.
 \n \nTo have a full experience\, please arrive on time and stay until the 
 end of the event. It is designed for an adult audience and no childcare wi
 ll be offered. Healthy snacks will be served.\n \nPlease register at the l
 ink to guarantee your space in the healing circle.\n
X-WR-RELCALID:b55fae2c62026a2acb10a24a8af6a6d7
X-WR-TIMEZONE:America/Chicago
BEGIN:VTIMEZONE
TZID:America/Chicago
BEGIN:STANDARD
TZNAME:CST
DTSTART:20231105T020000
TZOFFSETFROM:-0500
TZOFFSETTO:-0600
RDATE:20241103T020000
END:STANDARD
BEGIN:DAYLIGHT
TZNAME:CDT
DTSTART:20240310T020000
TZOFFSETFROM:-0600
TZOFFSETTO:-0500
RDATE:20250309T020000
END:DAYLIGHT
END:VTIMEZONE
BEGIN:VEVENT
UID:1fb15b3a-38b7-4c1b-babf-d958c508a80b
DTSTAMP:20260422T213021Z
DESCRIPTION:<b>Este evento está lleno. Regístrese en la lista de espera en 
 el siguiente enlace.</b>\n\nEscucha Tus Emociones te invita a este evento 
 gratuito de sanación emocional. El círculo de sanación será facilitado por
  la Psicóloga Ana Paula Soares y el invitado especial Taita y Maestro de C
 hile Alejandro Cerda quienes compartirán la Medicina del Cacao como herram
 ienta de sanación emocional y comunitaria. Date un momento para sanar tu c
 orazón\, escuchar y ser escuchado. Este evento comunitario se llevará a ca
 bo en español con interpretación al inglés.\n \nEl círculo de curación ser
 á gratuito para la comunidad gracias al apoyo y financiación de Community 
 Advocates.\n \nPara tener una experiencia completa\, por favor llega a tie
 mpo y quédate hasta el final del evento. Está diseñado para un público adu
 lto y no se ofrecerá cuidado de niños. Se servirán refrigerios saludables.
 \n \nRegístrese en el enlace para garantizar su espacio en el círculo de c
 uración.\n\n///\n<b>This event is full. Please sign up for the wait list a
 t the link below.</b>\n\nEscucha Tus Emociones invites you to this free ev
 ent of emotional healing with psychologist Ana Paula Soares and special gu
 est Elder and Taita Alejandro Cerada from Chile. Give yourself a moment du
 ring this Healing Circle with Cacao Medicine to heal your heart\, listen\,
  and be listened to. This community event will be conducted in Spanish wit
 h English interpretation provided. \n \nThe healing circle will be free to
  the community thanks to the support and funding of Community Advocates.\n
  \nTo have a full experience\, please arrive on time and stay until the en
 d of the event. It is designed for an adult audience and no childcare will
  be offered. Healthy snacks will be served.\n \nPlease register at the lin
 k to guarantee your space in the healing circle.\n
DTSTART;TZID=America/Chicago:20240423T180000
DTEND;TZID=America/Chicago:20240423T203000
LOCATION:Kosciuszko Community Center\, 2201 S 7th St.\, Milwaukee\, WI 5321
 5 US
SUMMARY:Círculo de Sanación Emocional con la Medicina del Cacao
END:VEVENT
END:VCALENDAR
