BEGIN:VCALENDAR
VERSION:2.0
PRODID:-//ppi.communityadvocates.net//NONSGML kigkonsult.se iCalcreator 2.3
 0.10//
CALSCALE:GREGORIAN
METHOD:PUBLISH
UID:1f3e296b-1bc7-44e3-a770-4798cdfecc0e
X-WR-CALDESC:This series is presented by the Southeast Region of the Allian
 ce for Wisconsin Youth and Community Advocates Public Policy Institute and
  is focused on helping those working in community coalitions or prevention
  to improve their facilitation skills. All are welcome to attend.\n\nSessi
 on 3\, March 27th: Setting Your Coalition Meetings Up For Success!\n\nPart
 icipants will be able to...\n- Explore tools to streamline meeting prepara
 tion and follow-up processes\n- Implement strategies for facilitating acti
 on-oriented coalition meetings\n- Identify opportunities to engage coaliti
 on members more deeply in workgroup and meeting settings
X-WR-RELCALID:9b5def9aefce4922ca5e2d309aee4af0
X-WR-TIMEZONE:America/Chicago
BEGIN:VTIMEZONE
TZID:America/Chicago
BEGIN:STANDARD
TZNAME:CST
DTSTART:20231105T020000
TZOFFSETFROM:-0500
TZOFFSETTO:-0600
RDATE:20241103T020000
END:STANDARD
BEGIN:DAYLIGHT
TZNAME:CDT
DTSTART:20240310T020000
TZOFFSETFROM:-0600
TZOFFSETTO:-0500
RDATE:20250309T020000
END:DAYLIGHT
END:VTIMEZONE
BEGIN:VEVENT
UID:d7c5947b-f5fd-478e-9db3-8e3c978a780e
DTSTAMP:20260422T213021Z
DESCRIPTION:This series is presented by the Southeast Region of the Allianc
 e for Wisconsin Youth and Community Advocates Public Policy Institute and 
 is focused on helping those working in community coalitions or prevention 
 to improve their facilitation skills. All are welcome to attend.\n\nSessio
 n 3\, March 27th: Setting Your Coalition Meetings Up For Success!\n\nParti
 cipants will be able to...\n- Explore tools to streamline meeting preparat
 ion and follow-up processes\n- Implement strategies for facilitating actio
 n-oriented coalition meetings\n- Identify opportunities to engage coalitio
 n members more deeply in workgroup and meeting settings
DTSTART;TZID=America/Chicago:20240327T130000
DTEND;TZID=America/Chicago:20240327T140000
LOCATION:via Zoom
SUMMARY:Creative Facilitation & Engagement Practices for Community Preventi
 on Leaders Session 3
END:VEVENT
END:VCALENDAR
