BEGIN:VCALENDAR
VERSION:2.0
PRODID:-//ppi.communityadvocates.net//NONSGML kigkonsult.se iCalcreator 2.3
 0.10//
CALSCALE:GREGORIAN
METHOD:PUBLISH
UID:06b5b7e6-ae92-4334-b034-7dc8c9162fee
X-WR-CALDESC:This series is presented by the Southeast Region of the Allian
 ce for Wisconsin Youth and Community Advocates Public Policy Institute and
  is focused on helping those working in community coalitions or prevention
  to improve their facilitation skills. All are welcome to attend.\n\nSessi
 on 2\, March 20th: Creative Dialogue and Engagement Styles\n\nParticipants
  will be able to...\n- Identify methods of facilitation that support the n
 eeds of their coalition\n- Develop flexible and impactful facilitation pla
 ns\n- Take home tips and tricks to increase coalition engagement without c
 reating a significant workload\n- Lead meetings they'd be excited to atten
 d!
X-WR-RELCALID:bef9add6f530ab781bd9d7ff57f6c57f
X-WR-TIMEZONE:America/Chicago
BEGIN:VTIMEZONE
TZID:America/Chicago
BEGIN:STANDARD
TZNAME:CST
DTSTART:20231105T020000
TZOFFSETFROM:-0500
TZOFFSETTO:-0600
RDATE:20241103T020000
END:STANDARD
BEGIN:DAYLIGHT
TZNAME:CDT
DTSTART:20240310T020000
TZOFFSETFROM:-0600
TZOFFSETTO:-0500
RDATE:20250309T020000
END:DAYLIGHT
END:VTIMEZONE
BEGIN:VEVENT
UID:1f012275-ad12-4ad5-aab4-33966c485104
DTSTAMP:20260422T213144Z
DESCRIPTION:This series is presented by the Southeast Region of the Allianc
 e for Wisconsin Youth and Community Advocates Public Policy Institute and 
 is focused on helping those working in community coalitions or prevention 
 to improve their facilitation skills. All are welcome to attend.\n\nSessio
 n 2\, March 20th: Creative Dialogue and Engagement Styles\n\nParticipants 
 will be able to...\n- Identify methods of facilitation that support the ne
 eds of their coalition\n- Develop flexible and impactful facilitation plan
 s\n- Take home tips and tricks to increase coalition engagement without cr
 eating a significant workload\n- Lead meetings they'd be excited to attend
 !
DTSTART;TZID=America/Chicago:20240320T130000
DTEND;TZID=America/Chicago:20240320T140000
LOCATION:via Zoom
SUMMARY:Creative Facilitation & Engagement Practices for Community Preventi
 on Leaders Session 2
END:VEVENT
END:VCALENDAR
