BEGIN:VCALENDAR
VERSION:2.0
PRODID:-//ppi.communityadvocates.net//NONSGML kigkonsult.se iCalcreator 2.3
 0.10//
CALSCALE:GREGORIAN
METHOD:PUBLISH
UID:c9b5e1f4-3134-48bf-a6cc-1ef7e0496f7d
X-WR-CALDESC:This series is presented by the Southeast Region of the Allian
 ce for Wisconsin Youth and Community Advocates Public Policy Institute and
  is focused on helping those working in community coalitions or prevention
  to improve their facilitation skills. All are welcome to attend.\n\nSessi
 on 1\, March 13th: Shared Decision-Making and Building Consensus Within Co
 alitions\n\nParticipants will be able to...\n- Identify current patterns o
 f decision-making in their coalition\n- Explore opportunities to increase 
 coalition buy-in and ownership through facilitation\n- Develop an action p
 lan to utilize consensus decision-making practices in their work\n- Unders
 tand conflict as a healthy means to achieving more
X-WR-RELCALID:dec894d0b56ae7475672262fdaf2c292
X-WR-TIMEZONE:America/Chicago
BEGIN:VTIMEZONE
TZID:America/Chicago
BEGIN:STANDARD
TZNAME:CST
DTSTART:20231105T020000
TZOFFSETFROM:-0500
TZOFFSETTO:-0600
RDATE:20241103T020000
END:STANDARD
BEGIN:DAYLIGHT
TZNAME:CDT
DTSTART:20240310T020000
TZOFFSETFROM:-0600
TZOFFSETTO:-0500
RDATE:20250309T020000
END:DAYLIGHT
END:VTIMEZONE
BEGIN:VEVENT
UID:4a1cf515-b073-45fa-834c-549284294dea
DTSTAMP:20260422T201655Z
DESCRIPTION:This series is presented by the Southeast Region of the Allianc
 e for Wisconsin Youth and Community Advocates Public Policy Institute and 
 is focused on helping those working in community coalitions or prevention 
 to improve their facilitation skills. All are welcome to attend.\n\nSessio
 n 1\, March 13th: Shared Decision-Making and Building Consensus Within Coa
 litions\n\nParticipants will be able to...\n- Identify current patterns of
  decision-making in their coalition\n- Explore opportunities to increase c
 oalition buy-in and ownership through facilitation\n- Develop an action pl
 an to utilize consensus decision-making practices in their work\n- Underst
 and conflict as a healthy means to achieving more
DTSTART;TZID=America/Chicago:20240313T130000
DTEND;TZID=America/Chicago:20240313T140000
LOCATION:via Zoom
SUMMARY:Creative Facilitation & Engagement Practices for Community Preventi
 on Leaders Session 1
END:VEVENT
END:VCALENDAR
