BEGIN:VCALENDAR
VERSION:2.0
PRODID:-//ppi.communityadvocates.net//NONSGML kigkonsult.se iCalcreator 2.3
 0.10//
CALSCALE:GREGORIAN
METHOD:PUBLISH
UID:9a1279c7-12fa-4c0d-895d-00e797d14fdd
X-WR-CALDESC:The Community Advocates Public Policy Institute invites propos
 als from not-for-profit organizations or government entities servicing Mil
 waukee County to provide programming and services directed toward the prev
 ention of alcohol and other drug use and misuse among Milwaukee County res
 idents of all ages.\n\nFunding is made available through the Milwaukee Cou
 nty Behavioral Health Division. Substance use and misuse have broad and si
 gnificant impacts on the overall health and wellbeing of all Milwaukee Cou
 nty residents. The economic and health costs of substance abuse are substa
 ntial. The most effective way to address these issues is to prevent them.
 \n\nThe Community Advocates Public Policy Institute will allocate approxim
 ately $300\,000 in AODA (Alcohol and Drug Abuse) prevention funding in 202
 4 based on this Request for Proposal’s competitive application process. It
  is estimated that 10 projects will be funded with a maximum grant award o
 f $30\,000.\n\nThe deadline to apply is 4 p.m. on February 29\, 2024.
X-WR-RELCALID:e9727ef3ae0616934a14cd49134058f1
X-WR-TIMEZONE:America/Chicago
BEGIN:VTIMEZONE
TZID:America/Chicago
BEGIN:STANDARD
TZNAME:CST
DTSTART:20231105T020000
TZOFFSETFROM:-0500
TZOFFSETTO:-0600
RDATE:20241103T020000
END:STANDARD
BEGIN:DAYLIGHT
TZNAME:CDT
DTSTART:20230312T020000
TZOFFSETFROM:-0600
TZOFFSETTO:-0500
RDATE:20240310T020000
RDATE:20250309T020000
END:DAYLIGHT
END:VTIMEZONE
BEGIN:VEVENT
UID:c449a2f2-9e37-454c-8651-4ecec0ac5d36
DTSTAMP:20260422T190111Z
DESCRIPTION:The Community Advocates Public Policy Institute invites proposa
 ls from not-for-profit organizations or government entities servicing Milw
 aukee County to provide programming and services directed toward the preve
 ntion of alcohol and other drug use and misuse among Milwaukee County resi
 dents of all ages.\n\nFunding is made available through the Milwaukee Coun
 ty Behavioral Health Division. Substance use and misuse have broad and sig
 nificant impacts on the overall health and wellbeing of all Milwaukee Coun
 ty residents. The economic and health costs of substance abuse are substan
 tial. The most effective way to address these issues is to prevent them.\n
 \nThe Community Advocates Public Policy Institute will allocate approximat
 ely $300\,000 in AODA (Alcohol and Drug Abuse) prevention funding in 2024 
 based on this Request for Proposal’s competitive application process. It i
 s estimated that 10 projects will be funded with a maximum grant award of 
 $30\,000.\n\nThe deadline to apply is 4 p.m. on February 29\, 2024.
DTSTART;TZID=America/Chicago:20240229T155900
DTEND;TZID=America/Chicago:20240229T160000
LOCATION:
SUMMARY:Stay Strong MKE RFP Proposals Due
END:VEVENT
END:VCALENDAR
