BEGIN:VCALENDAR
VERSION:2.0
PRODID:-//ppi.communityadvocates.net//NONSGML kigkonsult.se iCalcreator 2.3
 0.10//
CALSCALE:GREGORIAN
METHOD:PUBLISH
UID:b2fd4d6d-00e2-4433-828b-1c829eb31ae8
X-WR-CALDESC:How well do you cope with stress? And can stress ever be good 
 for you?\n\nIn this two-hour webinar\, participants will be able to: \n+ I
 dentify the early warning signs of stress\, types of stress\, and effects 
 of stress\n+ Understand positive and negative coping styles\, plus your pe
 rsonal coping style\n+ Learn specific skills to cope well with and thrive 
 from stress\n\n\n<b>This session is open to everyone and is offered free o
 f charge. We appreciate your interest in learning more about mental health
  and wellness.</b>
X-WR-RELCALID:222229d6c340cc3c979981d236c2db76
X-WR-TIMEZONE:America/Chicago
BEGIN:VTIMEZONE
TZID:America/Chicago
BEGIN:STANDARD
TZNAME:CST
DTSTART:20231105T020000
TZOFFSETFROM:-0500
TZOFFSETTO:-0600
RDATE:20241103T020000
END:STANDARD
BEGIN:DAYLIGHT
TZNAME:CDT
DTSTART:20230312T020000
TZOFFSETFROM:-0600
TZOFFSETTO:-0500
RDATE:20240310T020000
RDATE:20250309T020000
END:DAYLIGHT
END:VTIMEZONE
BEGIN:VEVENT
UID:06f0a99a-f27e-4586-8287-d0b4827d1504
DTSTAMP:20260422T190117Z
DESCRIPTION:How well do you cope with stress? And can stress ever be good f
 or you?\n\nIn this two-hour webinar\, participants will be able to: \n+ Id
 entify the early warning signs of stress\, types of stress\, and effects o
 f stress\n+ Understand positive and negative coping styles\, plus your per
 sonal coping style\n+ Learn specific skills to cope well with and thrive f
 rom stress\n\n\n<b>This session is open to everyone and is offered free of
  charge. We appreciate your interest in learning more about mental health 
 and wellness.</b>
DTSTART;TZID=America/Chicago:20240228T090000
DTEND;TZID=America/Chicago:20240228T110000
LOCATION:Via Zoom
SUMMARY:Resilience and Thriving: The Secret Power of Stress  | February 28\
 , 2024
END:VEVENT
END:VCALENDAR
