BEGIN:VCALENDAR
VERSION:2.0
PRODID:-//ppi.communityadvocates.net//NONSGML kigkonsult.se iCalcreator 2.3
 0.10//
CALSCALE:GREGORIAN
METHOD:PUBLISH
UID:efa893da-03ce-4ebb-a636-b97362df1389
X-WR-CALDESC:As a result of this workshop\, participants will gain a better
  understanding as to how trauma affects the brain\, discuss risk factors f
 or substance use disorders\, and develop their strategy for intervention m
 ethods for a particular population.\n\nWhat we will discuss:\n+ Trauma def
 inition\n+ How trauma affects the brain\n+ Statistics on substance use and
  ACEs\n+ Risk factors\n+ Strategies for care\n+ Stress reducers\n+ Priorit
 izing Risk Factors\n+ Beginning a Call to Action\n\n<b>This session is fre
 e and open to everyone. We appreciate your interest in learning more about
  mental health and wellness.</b>
X-WR-RELCALID:18c1520d67c1a6795e5c38c14c3c3714
X-WR-TIMEZONE:America/Chicago
BEGIN:VTIMEZONE
TZID:America/Chicago
BEGIN:STANDARD
TZNAME:CST
DTSTART:20231105T020000
TZOFFSETFROM:-0500
TZOFFSETTO:-0600
RDATE:20241103T020000
END:STANDARD
BEGIN:DAYLIGHT
TZNAME:CDT
DTSTART:20230312T020000
TZOFFSETFROM:-0600
TZOFFSETTO:-0500
RDATE:20240310T020000
RDATE:20250309T020000
END:DAYLIGHT
END:VTIMEZONE
BEGIN:VEVENT
UID:e698d829-5c0f-4af7-9710-b422fe0b076a
DTSTAMP:20260422T092859Z
DESCRIPTION:As a result of this workshop\, participants will gain a better 
 understanding as to how trauma affects the brain\, discuss risk factors fo
 r substance use disorders\, and develop their strategy for intervention me
 thods for a particular population.\n\nWhat we will discuss:\n+ Trauma defi
 nition\n+ How trauma affects the brain\n+ Statistics on substance use and 
 ACEs\n+ Risk factors\n+ Strategies for care\n+ Stress reducers\n+ Prioriti
 zing Risk Factors\n+ Beginning a Call to Action\n\n<b>This session is free
  and open to everyone. We appreciate your interest in learning more about 
 mental health and wellness.</b>
DTSTART;TZID=America/Chicago:20240213T090000
DTEND;TZID=America/Chicago:20240213T103000
LOCATION:via Zoom
SUMMARY:Trauma and the Brain: An Introduction | February 13\, 2024
END:VEVENT
END:VCALENDAR
