BEGIN:VCALENDAR
VERSION:2.0
PRODID:-//ppi.communityadvocates.net//NONSGML kigkonsult.se iCalcreator 2.3
 0.10//
CALSCALE:GREGORIAN
METHOD:PUBLISH
UID:4ff0e9d1-1d41-4e1c-b2b0-9b1c28b80e7f
X-WR-CALDESC:The WI SUPST is a foundational course of study in substance us
 e prevention. Grounded in current research and SAMHSA’s Strategic Preventi
 on Framework\, WI SUPST is designed to help participants develop the knowl
 edge and skills needed to implement effective\, data-driven prevention tha
 t reduces behavioral health disparities and improves wellness.\n\nThis ses
 sion will be held February 6\, 7 & 13\, from 10 a.m. to 4 p.m.\n\nRequirem
 ents:\n + Participants must attend all three days of training\n + Particip
 ants are expected to be active and engaged\n + Participants contribute a $
 10 registration fee to cover printing costs\n\nThis training is open to co
 alition leaders\, members\, prevention professionals\, and anyone working 
 to develop skills to engage in community-based substance use prevention! I
 t's sponsored by the Alliance for Wisconsin Youth and Community Advocates 
 Public Policy Institute.\n
X-WR-RELCALID:7dd6a1e26f8e8e06edafeadf82c48fa5
X-WR-TIMEZONE:America/Chicago
BEGIN:VTIMEZONE
TZID:America/Chicago
BEGIN:STANDARD
TZNAME:CST
DTSTART:20231105T020000
TZOFFSETFROM:-0500
TZOFFSETTO:-0600
RDATE:20241103T020000
END:STANDARD
BEGIN:DAYLIGHT
TZNAME:CDT
DTSTART:20230312T020000
TZOFFSETFROM:-0600
TZOFFSETTO:-0500
RDATE:20240310T020000
RDATE:20250309T020000
END:DAYLIGHT
END:VTIMEZONE
BEGIN:VEVENT
UID:4ba69751-07db-44d2-b7d6-ad40c4845f98
DTSTAMP:20260422T185440Z
DESCRIPTION:The WI SUPST is a foundational course of study in substance use
  prevention. Grounded in current research and SAMHSA’s Strategic Preventio
 n Framework\, WI SUPST is designed to help participants develop the knowle
 dge and skills needed to implement effective\, data-driven prevention that
  reduces behavioral health disparities and improves wellness.\n\nThis sess
 ion will be held February 6\, 7 & 13\, from 10 a.m. to 4 p.m.\n\nRequireme
 nts:\n + Participants must attend all three days of training\n + Participa
 nts are expected to be active and engaged\n + Participants contribute a $1
 0 registration fee to cover printing costs\n\nThis training is open to coa
 lition leaders\, members\, prevention professionals\, and anyone working t
 o develop skills to engage in community-based substance use prevention! It
 's sponsored by the Alliance for Wisconsin Youth and Community Advocates P
 ublic Policy Institute.\n
DTSTART;TZID=America/Chicago:20240206T100000
DTEND;TZID=America/Chicago:20240206T160000
LOCATION:via Zoom
SUMMARY:WI Substance Use Prevention Skills Training
END:VEVENT
END:VCALENDAR
