BEGIN:VCALENDAR
VERSION:2.0
PRODID:-//ppi.communityadvocates.net//NONSGML kigkonsult.se iCalcreator 2.3
 0.10//
CALSCALE:GREGORIAN
METHOD:PUBLISH
UID:ded9dae1-4502-4c83-942c-4f5d9c244c8c
X-WR-CALDESC:If you’re having trouble paying for Internet services\, the Af
 fordable Connectivity Program (ACP) can help you. The ACP offers eligible 
 households $30 a month discount on your Internet service and Community Adv
 ocates Public Policy Institute is getting the word out about this program 
 and helping folks get signed up.\n\nJoin us at the  Ascension Columbia St.
  Mary’s Family Health Center located on 1121 E. North Ave on Wednesday\, J
 anuary 24 from 12 p.m noon to 1 p.m to learn more about the ACP and find o
 ut if you're eligible.
X-WR-RELCALID:a012b5f8cb42fe05d59ac835b49d6218
X-WR-TIMEZONE:America/Chicago
BEGIN:VTIMEZONE
TZID:America/Chicago
BEGIN:STANDARD
TZNAME:CST
DTSTART:20231105T020000
TZOFFSETFROM:-0500
TZOFFSETTO:-0600
RDATE:20241103T020000
END:STANDARD
BEGIN:DAYLIGHT
TZNAME:CDT
DTSTART:20230312T020000
TZOFFSETFROM:-0600
TZOFFSETTO:-0500
RDATE:20240310T020000
RDATE:20250309T020000
END:DAYLIGHT
END:VTIMEZONE
BEGIN:VEVENT
UID:417ef1f0-0432-4158-afa8-8df18f7a6e7c
DTSTAMP:20260422T175000Z
DESCRIPTION:If you’re having trouble paying for Internet services\, the Aff
 ordable Connectivity Program (ACP) can help you. The ACP offers eligible h
 ouseholds $30 a month discount on your Internet service and Community Advo
 cates Public Policy Institute is getting the word out about this program a
 nd helping folks get signed up.\n\nJoin us at the  Ascension Columbia St. 
 Mary’s Family Health Center located on 1121 E. North Ave on Wednesday\, Ja
 nuary 24 from 12 p.m noon to 1 p.m to learn more about the ACP and find ou
 t if you're eligible.
DTSTART;TZID=America/Chicago:20240124T120000
DTEND;TZID=America/Chicago:20240124T130000
LOCATION:1121 E. North Ave\, Milwaukee\, WI 53212 US
SUMMARY:Affordable Connectivity Program Outreach Event - Ascension Columbia
  St. Mary’s Family Health Center
END:VEVENT
END:VCALENDAR
