BEGIN:VCALENDAR
VERSION:2.0
PRODID:-//ppi.communityadvocates.net//NONSGML kigkonsult.se iCalcreator 2.3
 0.10//
CALSCALE:GREGORIAN
METHOD:PUBLISH
UID:f023ee1b-58e6-4300-b51b-96eb57f7c9fc
X-WR-CALDESC:You’re cordially invited to a book talk and signing by Ben Aus
 ten\, author of <i>Correction: Parole\, Prison\, and the Possibility of Ch
 ange</i> at Boswell Book Co.\, on January 23\, 2024. <i>Correction</i>\, a
 n investigation into the crisis of the American criminal justice system th
 rough the lens of parole\, has generated rave reviews from The New York Ti
 mes\, Washington Post\, and Matthew Desmond\, author of <i>Evicted</i>\, w
 ho wrote\, “Correction ranks among the very best books on life inside and 
 outside of prison I have ever read.”\n\nAusten will appear in conversation
  with Elly Fishman\, UWM professor and author of <i>Refugee High</i>.\n\nT
 his book event\, cosponsored by PPI\, will begin at 6:30 p.m. on January 2
 3 at Boswell\, 2559 N. Downer Ave.\, Milwaukee. It’s free but you can rese
 rve your place at the link below. \n
X-WR-RELCALID:1bec9db4a2bcf496273f89b6a364198c
X-WR-TIMEZONE:America/Chicago
BEGIN:VTIMEZONE
TZID:America/Chicago
BEGIN:STANDARD
TZNAME:CST
DTSTART:20231105T020000
TZOFFSETFROM:-0500
TZOFFSETTO:-0600
RDATE:20241103T020000
END:STANDARD
BEGIN:DAYLIGHT
TZNAME:CDT
DTSTART:20230312T020000
TZOFFSETFROM:-0600
TZOFFSETTO:-0500
RDATE:20240310T020000
RDATE:20250309T020000
END:DAYLIGHT
END:VTIMEZONE
BEGIN:VEVENT
UID:c0838838-6a19-43e7-a2a6-a610eebcfca9
DTSTAMP:20260422T174451Z
DESCRIPTION:You’re cordially invited to a book talk and signing by Ben Aust
 en\, author of <i>Correction: Parole\, Prison\, and the Possibility of Cha
 nge</i> at Boswell Book Co.\, on January 23\, 2024. <i>Correction</i>\, an
  investigation into the crisis of the American criminal justice system thr
 ough the lens of parole\, has generated rave reviews from The New York Tim
 es\, Washington Post\, and Matthew Desmond\, author of <i>Evicted</i>\, wh
 o wrote\, “Correction ranks among the very best books on life inside and o
 utside of prison I have ever read.”\n\nAusten will appear in conversation 
 with Elly Fishman\, UWM professor and author of <i>Refugee High</i>.\n\nTh
 is book event\, cosponsored by PPI\, will begin at 6:30 p.m. on January 23
  at Boswell\, 2559 N. Downer Ave.\, Milwaukee. It’s free but you can reser
 ve your place at the link below. \n
DTSTART;TZID=America/Chicago:20240123T183000
DTEND;TZID=America/Chicago:20240123T200000
LOCATION:Boswell Book Co.\, 2559 N. Downer Ave.\, Milwaukee\, AL 53211 US
SUMMARY:Ben Austen at Boswell Book Co.
END:VEVENT
END:VCALENDAR
