BEGIN:VCALENDAR
VERSION:2.0
PRODID:-//ppi.communityadvocates.net//NONSGML kigkonsult.se iCalcreator 2.3
 0.10//
CALSCALE:GREGORIAN
METHOD:PUBLISH
UID:b4f1fdcc-bf6d-41d2-8462-817b6f537961
X-WR-CALDESC:The Empowerment Coalition of Milwaukee (ECOM) is a monthly gat
 hering of social services professionals\, advocates\, and consumers organi
 zed by Community Advocates Public Policy Institute. ECOM meets the third W
 ednesday of the month throughout the year (except December) and explores t
 opics that are vital to Milwaukee’s human services professionals. This mon
 th's topic is Legal Services.\n\nFee is $5 for light refreshments and mate
 rials and can be paid via credit card on this page. Registrations are not 
 refundable. Kindly make sure to RSVP by the Friday prior to each meeting.
X-WR-RELCALID:cc65e340d091dce2add968b065ab9f11
X-WR-TIMEZONE:America/Chicago
BEGIN:VTIMEZONE
TZID:America/Chicago
BEGIN:STANDARD
TZNAME:CST
DTSTART:20231105T020000
TZOFFSETFROM:-0500
TZOFFSETTO:-0600
RDATE:20241103T020000
END:STANDARD
BEGIN:DAYLIGHT
TZNAME:CDT
DTSTART:20230312T020000
TZOFFSETFROM:-0600
TZOFFSETTO:-0500
RDATE:20240310T020000
RDATE:20250309T020000
END:DAYLIGHT
END:VTIMEZONE
BEGIN:VEVENT
UID:e95c1e0d-9575-446a-b421-628094fd2938
DTSTAMP:20260422T174612Z
DESCRIPTION:The Empowerment Coalition of Milwaukee (ECOM) is a monthly gath
 ering of social services professionals\, advocates\, and consumers organiz
 ed by Community Advocates Public Policy Institute. ECOM meets the third We
 dnesday of the month throughout the year (except December) and explores to
 pics that are vital to Milwaukee’s human services professionals. This mont
 h's topic is Legal Services.\n\nFee is $5 for light refreshments and mater
 ials and can be paid via credit card on this page. Registrations are not r
 efundable. Kindly make sure to RSVP by the Friday prior to each meeting.
DTSTART;TZID=America/Chicago:20240117T090000
DTEND;TZID=America/Chicago:20240117T120000
LOCATION:Location TBD
SUMMARY:ECOM Workshop: Legal Services
END:VEVENT
END:VCALENDAR
