BEGIN:VCALENDAR
VERSION:2.0
PRODID:-//ppi.communityadvocates.net//NONSGML kigkonsult.se iCalcreator 2.3
 0.10//
CALSCALE:GREGORIAN
METHOD:PUBLISH
UID:bb6f9b79-1555-446e-ad40-877ec736b916
X-WR-CALDESC:Community Advocates Public Policy Institute will be closed on 
 Monday\, January 15 in observance of Martin Luther King Jr. Day. We will r
 eopen on the following day\, Tuesday\, January 16.
X-WR-RELCALID:e290179c16b0712f6ceaa5e06f555acf
X-WR-TIMEZONE:America/Chicago
BEGIN:VTIMEZONE
TZID:America/Chicago
BEGIN:STANDARD
TZNAME:CST
DTSTART:20231105T020000
TZOFFSETFROM:-0500
TZOFFSETTO:-0600
RDATE:20241103T020000
END:STANDARD
BEGIN:DAYLIGHT
TZNAME:CDT
DTSTART:20230312T020000
TZOFFSETFROM:-0600
TZOFFSETTO:-0500
RDATE:20240310T020000
RDATE:20250309T020000
END:DAYLIGHT
END:VTIMEZONE
BEGIN:VEVENT
UID:2620e6dd-f28e-448b-a78d-f5d66a86329c
DTSTAMP:20260422T174854Z
DESCRIPTION:Community Advocates Public Policy Institute will be closed on M
 onday\, January 15 in observance of Martin Luther King Jr. Day. We will re
 open on the following day\, Tuesday\, January 16.
DTSTART;TZID=America/Chicago:20240115T050000
DTEND;TZID=America/Chicago:20240115T050001
LOCATION:
SUMMARY:Closed for Martin Luther King Jr. Day
END:VEVENT
END:VCALENDAR
