BEGIN:VCALENDAR
VERSION:2.0
PRODID:-//ppi.communityadvocates.net//NONSGML kigkonsult.se iCalcreator 2.3
 0.10//
CALSCALE:GREGORIAN
METHOD:PUBLISH
UID:46e7cabe-1aa2-45a3-86ba-b8277c5b1293
X-WR-CALDESC:If you’re having trouble paying for Internet services\, the Af
 fordable Connectivity Program (ACP) can help you. The ACP offers eligible 
 households $30 a month discount on your Internet service and Community Adv
 ocates Public Policy Institute is getting the word out about this program 
 and helping folks get signed up.\n\nJoin us at the Sherman Phoenix Marketp
 lace located at 3536 W. Fond du Lac Ave on Wednesday\, January 10 from 11 
 a.m to 2 p.m to learn more about the ACP and find out if you're eligible.
X-WR-RELCALID:90dd9bdba8f3f4b0fb98fbb2ca54127a
X-WR-TIMEZONE:America/Chicago
BEGIN:VTIMEZONE
TZID:America/Chicago
BEGIN:STANDARD
TZNAME:CST
DTSTART:20231105T020000
TZOFFSETFROM:-0500
TZOFFSETTO:-0600
RDATE:20241103T020000
END:STANDARD
BEGIN:DAYLIGHT
TZNAME:CDT
DTSTART:20230312T020000
TZOFFSETFROM:-0600
TZOFFSETTO:-0500
RDATE:20240310T020000
RDATE:20250309T020000
END:DAYLIGHT
END:VTIMEZONE
BEGIN:VEVENT
UID:60d655bd-92c9-4441-9e92-3032b0a8cbe7
DTSTAMP:20260422T174905Z
DESCRIPTION:If you’re having trouble paying for Internet services\, the Aff
 ordable Connectivity Program (ACP) can help you. The ACP offers eligible h
 ouseholds $30 a month discount on your Internet service and Community Advo
 cates Public Policy Institute is getting the word out about this program a
 nd helping folks get signed up.\n\nJoin us at the Sherman Phoenix Marketpl
 ace located at 3536 W. Fond du Lac Ave on Wednesday\, January 10 from 11 a
 .m to 2 p.m to learn more about the ACP and find out if you're eligible.
DTSTART;TZID=America/Chicago:20240110T110000
DTEND;TZID=America/Chicago:20240110T140000
LOCATION:3536 W. Fond du Lac Ave\, Milwaukee\, WI 53216 US
SUMMARY:Affordable Connectivity Program Outreach Event - Sherman Phoenix
END:VEVENT
END:VCALENDAR
