BEGIN:VCALENDAR
VERSION:2.0
PRODID:-//ppi.communityadvocates.net//NONSGML kigkonsult.se iCalcreator 2.3
 0.10//
CALSCALE:GREGORIAN
METHOD:PUBLISH
UID:9c08b712-4fb6-435d-b3c4-047ae7523807
X-WR-CALDESC:If you’re having trouble paying for Internet services\, the Af
 fordable Connectivity Program (ACP) can help you. The ACP offers eligible 
 households $30 a month discount on your Internet service and Community Adv
 ocates Public Policy Institute is getting the word out about this program 
 and helping folks get signed up.\n\nJoin us at the Milwaukee VA Clinic loc
 ated at 1818 N Doctor M.L.K. Jr Dr on Tuesday\, January 9 from 8 a.m to no
 on to learn more about the ACP and learn if you're eligible. All veterans 
 are welcome.
X-WR-RELCALID:9d5d845698dbbc85419d843ddf984552
X-WR-TIMEZONE:America/Chicago
BEGIN:VTIMEZONE
TZID:America/Chicago
BEGIN:STANDARD
TZNAME:CST
DTSTART:20231105T020000
TZOFFSETFROM:-0500
TZOFFSETTO:-0600
RDATE:20241103T020000
END:STANDARD
BEGIN:DAYLIGHT
TZNAME:CDT
DTSTART:20230312T020000
TZOFFSETFROM:-0600
TZOFFSETTO:-0500
RDATE:20240310T020000
RDATE:20250309T020000
END:DAYLIGHT
END:VTIMEZONE
BEGIN:VEVENT
UID:6baddaf2-9965-4c6e-939a-5f368364a326
DTSTAMP:20260422T174655Z
DESCRIPTION:If you’re having trouble paying for Internet services\, the Aff
 ordable Connectivity Program (ACP) can help you. The ACP offers eligible h
 ouseholds $30 a month discount on your Internet service and Community Advo
 cates Public Policy Institute is getting the word out about this program a
 nd helping folks get signed up.\n\nJoin us at the Milwaukee VA Clinic loca
 ted at 1818 N Doctor M.L.K. Jr Dr on Tuesday\, January 9 from 8 a.m to noo
 n to learn more about the ACP and learn if you're eligible. All veterans a
 re welcome.
DTSTART;TZID=America/Chicago:20240109T080000
DTEND;TZID=America/Chicago:20240109T120000
LOCATION:1818 N Doctor M.L.K. Jr Dr\, Milwaukee\, WI 53212 US
SUMMARY:Affordable Connectivity Program Outreach Event - Milwaukee VA Clini
 c
END:VEVENT
END:VCALENDAR
