BEGIN:VCALENDAR
VERSION:2.0
PRODID:-//ppi.communityadvocates.net//NONSGML kigkonsult.se iCalcreator 2.3
 0.10//
CALSCALE:GREGORIAN
METHOD:PUBLISH
UID:869e8a48-33a5-4d42-994c-b7763be8efd6
X-WR-CALDESC:Community Advocates Public Policy Institute will be closed on 
 Friday\, December 29. We will reopen on Tuesday\, January 2\, 2024.
X-WR-RELCALID:8ac307b9ebfe83b6d196b1c7f3ed476c
X-WR-TIMEZONE:America/Chicago
BEGIN:VTIMEZONE
TZID:America/Chicago
BEGIN:STANDARD
TZNAME:CST
DTSTART:20231105T020000
TZOFFSETFROM:-0500
TZOFFSETTO:-0600
RDATE:20241103T020000
END:STANDARD
BEGIN:DAYLIGHT
TZNAME:CDT
DTSTART:20230312T020000
TZOFFSETFROM:-0600
TZOFFSETTO:-0500
RDATE:20240310T020000
RDATE:20250309T020000
END:DAYLIGHT
END:VTIMEZONE
BEGIN:VEVENT
UID:f61ac731-971a-4288-950f-9ffb944f1474
DTSTAMP:20260422T163424Z
DESCRIPTION:Community Advocates Public Policy Institute will be closed on F
 riday\, December 29. We will reopen on Tuesday\, January 2\, 2024.
DTSTART;TZID=America/Chicago:20231229T050000
DTEND;TZID=America/Chicago:20231229T050001
LOCATION:
SUMMARY:Closed
END:VEVENT
END:VCALENDAR
