BEGIN:VCALENDAR
VERSION:2.0
PRODID:-//ppi.communityadvocates.net//NONSGML kigkonsult.se iCalcreator 2.3
 0.10//
CALSCALE:GREGORIAN
METHOD:PUBLISH
UID:0ebcc09b-ef56-43d8-92ea-c4b9e17a69f1
X-WR-CALDESC:Community Advocates will closed on Monday\, December 25th for 
 Christmas. We will reopen the following day on Tuesday\, December 26.
X-WR-RELCALID:9a95f03d1a4338e9b365815725faeb49
X-WR-TIMEZONE:America/Chicago
BEGIN:VTIMEZONE
TZID:America/Chicago
BEGIN:STANDARD
TZNAME:CST
DTSTART:20231105T020000
TZOFFSETFROM:-0500
TZOFFSETTO:-0600
RDATE:20241103T020000
END:STANDARD
BEGIN:DAYLIGHT
TZNAME:CDT
DTSTART:20230312T020000
TZOFFSETFROM:-0600
TZOFFSETTO:-0500
RDATE:20240310T020000
RDATE:20250309T020000
END:DAYLIGHT
END:VTIMEZONE
BEGIN:VEVENT
UID:7e2e611a-5a62-435e-8a9c-fb70758c0aa7
DTSTAMP:20260422T164512Z
DESCRIPTION:Community Advocates will closed on Monday\, December 25th for C
 hristmas. We will reopen the following day on Tuesday\, December 26.
DTSTART;TZID=America/Chicago:20231225T050000
DTEND;TZID=America/Chicago:20231225T050001
LOCATION:
SUMMARY:Closed for Christmas Day
END:VEVENT
END:VCALENDAR
