BEGIN:VCALENDAR
VERSION:2.0
PRODID:-//ppi.communityadvocates.net//NONSGML kigkonsult.se iCalcreator 2.3
 0.10//
CALSCALE:GREGORIAN
METHOD:PUBLISH
UID:c17d413e-6210-4b79-9e4b-dd4614eb7fc6
X-WR-CALDESC:Community Advocates Public Policy Institute will be closed on 
 Friday\, December 22. We will reopen on Tuesday\, December 26.
X-WR-RELCALID:0faca63094b8dfbf6c64dfc21a7454b7
X-WR-TIMEZONE:America/Chicago
BEGIN:VTIMEZONE
TZID:America/Chicago
BEGIN:STANDARD
TZNAME:CST
DTSTART:20231105T020000
TZOFFSETFROM:-0500
TZOFFSETTO:-0600
RDATE:20241103T020000
END:STANDARD
BEGIN:DAYLIGHT
TZNAME:CDT
DTSTART:20230312T020000
TZOFFSETFROM:-0600
TZOFFSETTO:-0500
RDATE:20240310T020000
RDATE:20250309T020000
END:DAYLIGHT
END:VTIMEZONE
BEGIN:VEVENT
UID:70e023ee-d024-4488-a420-92f877ca3cfd
DTSTAMP:20260422T164155Z
DESCRIPTION:Community Advocates Public Policy Institute will be closed on F
 riday\, December 22. We will reopen on Tuesday\, December 26.
DTSTART;TZID=America/Chicago:20231222T050000
DTEND;TZID=America/Chicago:20231222T050001
LOCATION:
SUMMARY:Closed
END:VEVENT
END:VCALENDAR
