BEGIN:VCALENDAR
VERSION:2.0
PRODID:-//ppi.communityadvocates.net//NONSGML kigkonsult.se iCalcreator 2.3
 0.10//
CALSCALE:GREGORIAN
METHOD:PUBLISH
UID:755cb763-8a8f-41f9-87a8-7073ce50abab
X-WR-CALDESC:<b>Registration has closed for this session. Thanks for your i
 nterest!</b>\n\nJoin us for an insightful panel discussion that delves int
 o the unique experiences of the LGBTQ+ community in accessing behavioral h
 ealth resources. Our diverse panel of speakers will share personal stories
 \, challenges\, and triumphs\, shedding light on the intersections of iden
 tity and mental health. From overcoming barriers to finding affirming care
 \, we'll explore the diverse journeys within the LGBTQ+ community.\n\nWe w
 ill also present additional resources available for providers to enhance t
 heir understanding of LGBTQ+ mental health needs\, fostering a more inclus
 ive and affirming practice. For everyone from behavioral health profession
 als eager to improve your cultural humility to community members intereste
 d in expanding their knowledge\, this panel promises valuable insights and
  resources for everyone. Join us in fostering a more inclusive and support
 ive behavioral health landscape for all.\n
X-WR-RELCALID:3d2636db628853799132b7a16e8ff19c
X-WR-TIMEZONE:America/Chicago
BEGIN:VTIMEZONE
TZID:America/Chicago
BEGIN:STANDARD
TZNAME:CST
DTSTART:20231105T020000
TZOFFSETFROM:-0500
TZOFFSETTO:-0600
RDATE:20241103T020000
END:STANDARD
BEGIN:DAYLIGHT
TZNAME:CDT
DTSTART:20230312T020000
TZOFFSETFROM:-0600
TZOFFSETTO:-0500
RDATE:20240310T020000
RDATE:20250309T020000
END:DAYLIGHT
END:VTIMEZONE
BEGIN:VEVENT
UID:236d55f6-d128-4274-a038-f3feec94244c
DTSTAMP:20260422T164947Z
DESCRIPTION:<b>Registration has closed for this session. Thanks for your in
 terest!</b>\n\nJoin us for an insightful panel discussion that delves into
  the unique experiences of the LGBTQ+ community in accessing behavioral he
 alth resources. Our diverse panel of speakers will share personal stories\
 , challenges\, and triumphs\, shedding light on the intersections of ident
 ity and mental health. From overcoming barriers to finding affirming care\
 , we'll explore the diverse journeys within the LGBTQ+ community.\n\nWe wi
 ll also present additional resources available for providers to enhance th
 eir understanding of LGBTQ+ mental health needs\, fostering a more inclusi
 ve and affirming practice. For everyone from behavioral health professiona
 ls eager to improve your cultural humility to community members interested
  in expanding their knowledge\, this panel promises valuable insights and 
 resources for everyone. Join us in fostering a more inclusive and supporti
 ve behavioral health landscape for all.\n
DTSTART;TZID=America/Chicago:20231220T110000
DTEND;TZID=America/Chicago:20231220T123000
LOCATION:Via Zoom
SUMMARY:LGBTQ+ Community Perspectives on Behavioral Health Access Panel & A
 dditional Provider Education and Resources
END:VEVENT
END:VCALENDAR
