BEGIN:VCALENDAR
VERSION:2.0
PRODID:-//ppi.communityadvocates.net//NONSGML kigkonsult.se iCalcreator 2.3
 0.10//
CALSCALE:GREGORIAN
METHOD:PUBLISH
UID:1527fc66-e51a-4a6c-b6e9-d458076e56a0
X-WR-CALDESC:Community Advocates Public Policy Institute will be closed Thu
 rsday\, November 23\, and Friday\, November 24\, to observe the Thanksgivi
 ng holiday. We’ll be back in touch on Monday.
X-WR-RELCALID:40053a3f73aa4f6c830654227bc3c584
X-WR-TIMEZONE:America/Chicago
BEGIN:VTIMEZONE
TZID:America/Chicago
BEGIN:STANDARD
TZNAME:CST
DTSTART:20231105T020000
TZOFFSETFROM:-0500
TZOFFSETTO:-0600
RDATE:20241103T020000
END:STANDARD
BEGIN:DAYLIGHT
TZNAME:CDT
DTSTART:20230312T020000
TZOFFSETFROM:-0600
TZOFFSETTO:-0500
RDATE:20240310T020000
RDATE:20250309T020000
END:DAYLIGHT
END:VTIMEZONE
BEGIN:VEVENT
UID:8e0d5a1b-3189-4aea-a519-83dacb84e309
DTSTAMP:20260422T152620Z
DESCRIPTION:Community Advocates Public Policy Institute will be closed Thur
 sday\, November 23\, and Friday\, November 24\, to observe the Thanksgivin
 g holiday. We’ll be back in touch on Monday.
DTSTART;TZID=America/Chicago:20231123T050000
DTEND;TZID=America/Chicago:20231124T050001
LOCATION:
SUMMARY:Thanksgiving Holiday
END:VEVENT
END:VCALENDAR
