BEGIN:VCALENDAR
VERSION:2.0
PRODID:-//ppi.communityadvocates.net//NONSGML kigkonsult.se iCalcreator 2.3
 0.10//
CALSCALE:GREGORIAN
METHOD:PUBLISH
UID:e09ec39a-da6a-467e-bd4d-b716d078f797
X-WR-CALDESC:<b>Registration has closed for this session.</b>\n\nThe Empowe
 rment Coalition of Milwaukee (ECOM) is a monthly gathering of social servi
 ces professionals\, advocates\, and consumers organized by Community Advoc
 ates Public Policy Institute. ECOM meets the third Wednesday of the month 
 throughout the year (except December) and explores topics that are vital t
 o Milwaukee’s human services professionals. This month's topic is Peer Sup
 port Services.\n\nFee is $5 for light refreshments and materials and can b
 e paid via credit card on this page. Registrations are not refundable. Kin
 dly make sure to RSVP by the Friday prior to each meeting.
X-WR-RELCALID:23e2efb1076950f106a53b32b99cf056
X-WR-TIMEZONE:America/Chicago
BEGIN:VTIMEZONE
TZID:America/Chicago
BEGIN:STANDARD
TZNAME:CST
DTSTART:20231105T020000
TZOFFSETFROM:-0500
TZOFFSETTO:-0600
RDATE:20241103T020000
END:STANDARD
BEGIN:DAYLIGHT
TZNAME:CDT
DTSTART:20230312T020000
TZOFFSETFROM:-0600
TZOFFSETTO:-0500
RDATE:20240310T020000
RDATE:20250309T020000
END:DAYLIGHT
END:VTIMEZONE
BEGIN:VEVENT
UID:d6d264d8-f1c1-4ed6-98e3-8c7e7eb9b096
DTSTAMP:20260422T152140Z
DESCRIPTION:<b>Registration has closed for this session.</b>\n\nThe Empower
 ment Coalition of Milwaukee (ECOM) is a monthly gathering of social servic
 es professionals\, advocates\, and consumers organized by Community Advoca
 tes Public Policy Institute. ECOM meets the third Wednesday of the month t
 hroughout the year (except December) and explores topics that are vital to
  Milwaukee’s human services professionals. This month's topic is Peer Supp
 ort Services.\n\nFee is $5 for light refreshments and materials and can be
  paid via credit card on this page. Registrations are not refundable. Kind
 ly make sure to RSVP by the Friday prior to each meeting.
DTSTART;TZID=America/Chicago:20231115T090000
DTEND;TZID=America/Chicago:20231115T120000
LOCATION:Location TBD
SUMMARY:ECOM Workshop: Peer Support Services
END:VEVENT
END:VCALENDAR
