BEGIN:VCALENDAR
VERSION:2.0
PRODID:-//ppi.communityadvocates.net//NONSGML kigkonsult.se iCalcreator 2.3
 0.10//
CALSCALE:GREGORIAN
METHOD:PUBLISH
UID:de747e50-bffa-45e6-827a-98b247877a47
X-WR-CALDESC:Explore fentanyl with author Ben Westhoff\, learn how to provi
 de Narcan\, receive a medication lock box\, and tell us how you want Milwa
 ukee County funds to be spent in the community in this Community Engagemen
 t Session. A light breakfast is included.\n\nThe first 20 people to regist
 er can win gift cards after they participate on November 3.\n\nThis sessio
 n is sponsored by Community Advocates Public Policy Institute and Milwauke
 e County Behavioral Health Services.
X-WR-RELCALID:772dcdfaae20ebd31ffb79a42f03b6e4
X-WR-TIMEZONE:America/Chicago
BEGIN:VTIMEZONE
TZID:America/Chicago
BEGIN:STANDARD
TZNAME:CST
DTSTART:20221106T020000
TZOFFSETFROM:-0500
TZOFFSETTO:-0600
RDATE:20231105T020000
RDATE:20241103T020000
END:STANDARD
BEGIN:DAYLIGHT
TZNAME:CDT
DTSTART:20230312T020000
TZOFFSETFROM:-0600
TZOFFSETTO:-0500
RDATE:20240310T020000
RDATE:20250309T020000
END:DAYLIGHT
END:VTIMEZONE
BEGIN:VEVENT
UID:8b5aa12a-c615-4981-9c3a-632d70eeee37
DTSTAMP:20260422T153556Z
DESCRIPTION:Explore fentanyl with author Ben Westhoff\, learn how to provid
 e Narcan\, receive a medication lock box\, and tell us how you want Milwau
 kee County funds to be spent in the community in this Community Engagement
  Session. A light breakfast is included.\n\nThe first 20 people to registe
 r can win gift cards after they participate on November 3.\n\nThis session
  is sponsored by Community Advocates Public Policy Institute and Milwaukee
  County Behavioral Health Services.
DTSTART;TZID=America/Chicago:20231103T083000
DTEND;TZID=America/Chicago:20231103T120000
LOCATION:Tripoli Shrine Center\, 3000 W. Wisconsin Ave.\, Milwaukee\, WI 53
 208 US
SUMMARY:Free Community Engagement Session:  Fentanyl Info\, Narcan Training
 \,  Medication Lock Boxes &  How Milwaukee County  Should Invest in Our Co
 mmunity
END:VEVENT
END:VCALENDAR
