BEGIN:VCALENDAR
VERSION:2.0
PRODID:-//ppi.communityadvocates.net//NONSGML kigkonsult.se iCalcreator 2.3
 0.10//
CALSCALE:GREGORIAN
METHOD:PUBLISH
UID:8680e07b-a43a-46ba-b1fa-214b6683e613
X-WR-CALDESC:<b>Overview:</b> This training session is designed to empower 
 mental health professionals and clinicians with the knowledge and skills r
 equired to compassionately and effectively navigate letters of readiness f
 or transgender and non-binary clients pursuing gender-affirming healthcare
 . As clinicians\, it is crucial to provide affirming and supportive care t
 o individuals exploring their gender identity and expression. This session
  will address key considerations\, ethical guidelines\, protecting the the
 rapist-client relationship\, and helping clinicians to navigate this proce
 ss sensitively and professionally.\n\n<b>Learning Objectives:</b>\nBy the 
 end of this training session\, participants will be able to:\n1.	Understand
  the importance of letters of readiness in the context of gender-affirming
  healthcare for trans and non-binary clients.\n2.	Recognize and address pot
 ential barriers and challenges that clients may face in accessing gender-a
 ffirming healthcare in Wisconsin.\n3.	Familiarize themselves with the legal
  and ethical considerations surrounding letters of readiness and gain insi
 ghts into the evolving landscape of gender-affirming healthcare in Wiscons
 in\, including insurance coverage and healthcare policies.\n\n<b>This sess
 ion will be available LIVE only and will not be recorded. </b>\n\n<b>Who S
 hould Attend:</b> Community-based behavioral health professionals and stud
 ents in Wisconsin\, as well as allied community members. \n\n<i><b>About t
 he Series:</b> Improving Behavioral Health Services and Care for Your Sexu
 al and Gender Diverse Clients: A Series of LGBTQ+ Educational Opportunitie
 s for Health Providers is a six-part monthly convening to promote greater 
 awareness of the experiences of sexual and gender diverse individuals in t
 he behavioral health care system to improve services. It is provided free 
 of charge thanks to generous support from the Wisconsin Department of Heal
 th Services Division of Care and Treatment Services. Community Advocates P
 ublic Policy Institute will offer sessions once a month via Zoom and will 
 archive the videos for viewing upon request. Sessions will be posted on th
 is website's calendar as they are made available. Professional continuing 
 education credits or a certificate of completion are available for those w
 ho complete the live or archive sessions and a post-session survey on sess
 ion content. </i>\n
X-WR-RELCALID:06281e83a0577efd61fc3adf0f70fec1
X-WR-TIMEZONE:America/Chicago
BEGIN:VTIMEZONE
TZID:America/Chicago
BEGIN:STANDARD
TZNAME:CST
DTSTART:20221106T020000
TZOFFSETFROM:-0500
TZOFFSETTO:-0600
RDATE:20231105T020000
RDATE:20241103T020000
END:STANDARD
BEGIN:DAYLIGHT
TZNAME:CDT
DTSTART:20230312T020000
TZOFFSETFROM:-0600
TZOFFSETTO:-0500
RDATE:20240310T020000
RDATE:20250309T020000
END:DAYLIGHT
END:VTIMEZONE
BEGIN:VEVENT
UID:51089642-5b52-4f3c-9fa1-48378ead4017
DTSTAMP:20260422T135003Z
DESCRIPTION:<b>Overview:</b> This training session is designed to empower m
 ental health professionals and clinicians with the knowledge and skills re
 quired to compassionately and effectively navigate letters of readiness fo
 r transgender and non-binary clients pursuing gender-affirming healthcare.
  As clinicians\, it is crucial to provide affirming and supportive care to
  individuals exploring their gender identity and expression. This session 
 will address key considerations\, ethical guidelines\, protecting the ther
 apist-client relationship\, and helping clinicians to navigate this proces
 s sensitively and professionally.\n\n<b>Learning Objectives:</b>\nBy the e
 nd of this training session\, participants will be able to:\n1.	Understand 
 the importance of letters of readiness in the context of gender-affirming 
 healthcare for trans and non-binary clients.\n2.	Recognize and address pote
 ntial barriers and challenges that clients may face in accessing gender-af
 firming healthcare in Wisconsin.\n3.	Familiarize themselves with the legal 
 and ethical considerations surrounding letters of readiness and gain insig
 hts into the evolving landscape of gender-affirming healthcare in Wisconsi
 n\, including insurance coverage and healthcare policies.\n\n<b>This sessi
 on will be available LIVE only and will not be recorded. </b>\n\n<b>Who Sh
 ould Attend:</b> Community-based behavioral health professionals and stude
 nts in Wisconsin\, as well as allied community members. \n\n<i><b>About th
 e Series:</b> Improving Behavioral Health Services and Care for Your Sexua
 l and Gender Diverse Clients: A Series of LGBTQ+ Educational Opportunities
  for Health Providers is a six-part monthly convening to promote greater a
 wareness of the experiences of sexual and gender diverse individuals in th
 e behavioral health care system to improve services. It is provided free o
 f charge thanks to generous support from the Wisconsin Department of Healt
 h Services Division of Care and Treatment Services. Community Advocates Pu
 blic Policy Institute will offer sessions once a month via Zoom and will a
 rchive the videos for viewing upon request. Sessions will be posted on thi
 s website's calendar as they are made available. Professional continuing e
 ducation credits or a certificate of completion are available for those wh
 o complete the live or archive sessions and a post-session survey on sessi
 on content. </i>\n
DTSTART;TZID=America/Chicago:20231026T100000
DTEND;TZID=America/Chicago:20231026T113000
LOCATION:via Zoom
SUMMARY:Improving Behavioral Health Services and Care for Your Sexual and G
 ender Diverse Clients: Navigating Letters of Readiness for Clients Seeking
  Gender-Affirming Care
END:VEVENT
END:VCALENDAR
