BEGIN:VCALENDAR
VERSION:2.0
PRODID:-//ppi.communityadvocates.net//NONSGML kigkonsult.se iCalcreator 2.3
 0.10//
CALSCALE:GREGORIAN
METHOD:PUBLISH
UID:696eacf8-7c16-4631-b1b4-c1e091b4c4d4
X-WR-CALDESC:<b>Please Note: The Youth Mental Health First Aid course consi
 sts of two hours of self-paced content followed by 4.5 hours of instructor
 -led training. The self-paced computer training must be completed at least
  three days prior to the beginning of the course and the one-hour self-pac
 ed post session computer training must be completed as well in order for a
 ttendees to obtain certification. Registration ends October 13.</b>\n\nYou
 th Mental Health First Aid is designed to teach parents\, family members\,
  caregivers\, teachers\, school staff\, peers\, neighbors\, health and hum
 an services workers\, and other caring citizens how to help an adolescent 
 (age 12-18) who is experiencing a mental health or addictions challenge or
  is in crisis.\n\nThe course introduces common mental health challenges fo
 r youth\, reviews typical adolescent development\, and teaches a 5-step ac
 tion plan for how to help young people in both crisis and non-crisis situa
 tions.\n\nTopics covered include:\n+ Anxiety\n+ Depression\n+ Substance us
 e\n+ Disorders in which psychosis may occur\n+ Disruptive behavior disorde
 rs (including AD/HD)\n+ Eating disorders\n\n<b>This session is free and op
 en to everyone. We appreciate your interest in learning more about mental 
 health and wellness.</b>
X-WR-RELCALID:7710bda623029a04e3c76211375c8e8f
X-WR-TIMEZONE:America/Chicago
BEGIN:VTIMEZONE
TZID:America/Chicago
BEGIN:STANDARD
TZNAME:CST
DTSTART:20221106T020000
TZOFFSETFROM:-0500
TZOFFSETTO:-0600
RDATE:20231105T020000
RDATE:20241103T020000
END:STANDARD
BEGIN:DAYLIGHT
TZNAME:CDT
DTSTART:20230312T020000
TZOFFSETFROM:-0600
TZOFFSETTO:-0500
RDATE:20240310T020000
RDATE:20250309T020000
END:DAYLIGHT
END:VTIMEZONE
BEGIN:VEVENT
UID:e0addf6e-e465-4a17-92cf-1d0b3882777a
DTSTAMP:20260422T135640Z
DESCRIPTION:<b>Please Note: The Youth Mental Health First Aid course consis
 ts of two hours of self-paced content followed by 4.5 hours of instructor-
 led training. The self-paced computer training must be completed at least 
 three days prior to the beginning of the course and the one-hour self-pace
 d post session computer training must be completed as well in order for at
 tendees to obtain certification. Registration ends October 13.</b>\n\nYout
 h Mental Health First Aid is designed to teach parents\, family members\, 
 caregivers\, teachers\, school staff\, peers\, neighbors\, health and huma
 n services workers\, and other caring citizens how to help an adolescent (
 age 12-18) who is experiencing a mental health or addictions challenge or 
 is in crisis.\n\nThe course introduces common mental health challenges for
  youth\, reviews typical adolescent development\, and teaches a 5-step act
 ion plan for how to help young people in both crisis and non-crisis situat
 ions.\n\nTopics covered include:\n+ Anxiety\n+ Depression\n+ Substance use
 \n+ Disorders in which psychosis may occur\n+ Disruptive behavior disorder
 s (including AD/HD)\n+ Eating disorders\n\n<b>This session is free and ope
 n to everyone. We appreciate your interest in learning more about mental h
 ealth and wellness.</b>
DTSTART;TZID=America/Chicago:20231020T090000
DTEND;TZID=America/Chicago:20231020T153000
LOCATION:via Zoom
SUMMARY:Youth Mental Health First Aid | October 20\, 2023
END:VEVENT
END:VCALENDAR
