BEGIN:VCALENDAR
VERSION:2.0
PRODID:-//ppi.communityadvocates.net//NONSGML kigkonsult.se iCalcreator 2.3
 0.10//
CALSCALE:GREGORIAN
METHOD:PUBLISH
UID:52378619-e670-4d76-8c8b-d9566efdae95
X-WR-CALDESC:Our next PPI Members Lunch & Learn will feature David Riemer\,
  whose subject is “What Works to Dramatically Reduce Poverty?” David is th
 e Emeritus Director of the Public Policy Institute and has held a variety 
 of impactful positions in state and local government\, as well as in the p
 rivate sector. He’s the author of <i>Putting Government in Its Place: The 
 Case for a New Deal 3.0</i>. He’s a PPI Member too. To join the PPI Member
  Network and participate in this session\, please click on the link below.
  Thanks!
X-WR-RELCALID:cd60fac08a283a81d585b0b1d38daaf6
X-WR-TIMEZONE:America/Chicago
BEGIN:VTIMEZONE
TZID:America/Chicago
BEGIN:STANDARD
TZNAME:CST
DTSTART:20221106T020000
TZOFFSETFROM:-0500
TZOFFSETTO:-0600
RDATE:20231105T020000
RDATE:20241103T020000
END:STANDARD
BEGIN:DAYLIGHT
TZNAME:CDT
DTSTART:20230312T020000
TZOFFSETFROM:-0600
TZOFFSETTO:-0500
RDATE:20240310T020000
RDATE:20250309T020000
END:DAYLIGHT
END:VTIMEZONE
BEGIN:VEVENT
UID:c5c0574b-4364-4e46-8157-927c3360ecc0
DTSTAMP:20260422T135926Z
DESCRIPTION:Our next PPI Members Lunch & Learn will feature David Riemer\, 
 whose subject is “What Works to Dramatically Reduce Poverty?” David is the
  Emeritus Director of the Public Policy Institute and has held a variety o
 f impactful positions in state and local government\, as well as in the pr
 ivate sector. He’s the author of <i>Putting Government in Its Place: The C
 ase for a New Deal 3.0</i>. He’s a PPI Member too. To join the PPI Member 
 Network and participate in this session\, please click on the link below. 
 Thanks!
DTSTART;TZID=America/Chicago:20231018T120000
DTEND;TZID=America/Chicago:20231018T130000
LOCATION:via Zoom
SUMMARY:Lunch & Learn for PPI Members: David Riemer on 'What Works to Drama
 tically Reduce Poverty?'
END:VEVENT
END:VCALENDAR
