BEGIN:VCALENDAR
VERSION:2.0
PRODID:-//ppi.communityadvocates.net//NONSGML kigkonsult.se iCalcreator 2.3
 0.10//
CALSCALE:GREGORIAN
METHOD:PUBLISH
UID:fce115e3-e752-4c39-b459-7038893eb9ec
X-WR-CALDESC:The Empowerment Coalition of Milwaukee (ECOM) is a monthly gat
 hering of social services professionals\, advocates\, and consumers organi
 zed by Community Advocates Public Policy Institute. ECOM meets the third W
 ednesday of the month throughout the year (except December) and explores t
 opics that are vital to Milwaukee’s human services professionals. This mon
 th's topic is Utility Services/Energy Assistance.\n\nFee is $5 for light r
 efreshments and materials and can be paid via credit card on this page. Re
 gistrations are not refundable. Kindly make sure to RSVP by the Friday pri
 or to each meeting.
X-WR-RELCALID:d24dd7e6017c1d985f564db219f4d7c0
X-WR-TIMEZONE:America/Chicago
BEGIN:VTIMEZONE
TZID:America/Chicago
BEGIN:STANDARD
TZNAME:CST
DTSTART:20221106T020000
TZOFFSETFROM:-0500
TZOFFSETTO:-0600
RDATE:20231105T020000
RDATE:20241103T020000
END:STANDARD
BEGIN:DAYLIGHT
TZNAME:CDT
DTSTART:20230312T020000
TZOFFSETFROM:-0600
TZOFFSETTO:-0500
RDATE:20240310T020000
RDATE:20250309T020000
END:DAYLIGHT
END:VTIMEZONE
BEGIN:VEVENT
UID:fe93d926-1a1e-4f8a-aded-a9369ad2b50a
DTSTAMP:20260422T135145Z
DESCRIPTION:The Empowerment Coalition of Milwaukee (ECOM) is a monthly gath
 ering of social services professionals\, advocates\, and consumers organiz
 ed by Community Advocates Public Policy Institute. ECOM meets the third We
 dnesday of the month throughout the year (except December) and explores to
 pics that are vital to Milwaukee’s human services professionals. This mont
 h's topic is Utility Services/Energy Assistance.\n\nFee is $5 for light re
 freshments and materials and can be paid via credit card on this page. Reg
 istrations are not refundable. Kindly make sure to RSVP by the Friday prio
 r to each meeting.
DTSTART;TZID=America/Chicago:20231018T090000
DTEND;TZID=America/Chicago:20231018T120000
LOCATION:Location TBD
SUMMARY:ECOM Workshop: Utility Services/Energy Assistance
END:VEVENT
END:VCALENDAR
