BEGIN:VCALENDAR
VERSION:2.0
PRODID:-//ppi.communityadvocates.net//NONSGML kigkonsult.se iCalcreator 2.3
 0.10//
CALSCALE:GREGORIAN
METHOD:PUBLISH
UID:17ddcc83-4cb7-4ae5-8573-aefa929649ad
X-WR-CALDESC:<b>This session has been canceled. Please check out our other 
 workshops on our online calendar. Thanks for your interest!</b>\n\nWe can 
 all save lives.\n\nThe QPR mission is to reduce suicidal behaviors and sav
 e lives by providing innovative\, practical and proven suicide prevention 
 training. The signs of crisis are all around us. We believe that quality e
 ducation empowers all people\, regardless of their background\, to make a 
 positive difference in the life of someone they know.\n\nThis two-hour int
 eractive introduction to suicide awareness and prevention will also cover 
 statistics and intervention strategies.\n\n<b>This session is open to ever
 yone and is offered free of charge. We appreciate your interest in learnin
 g more about mental health and wellness.</b>
X-WR-RELCALID:c87487060d07dc53016e9d78c760a444
X-WR-TIMEZONE:America/Chicago
BEGIN:VTIMEZONE
TZID:America/Chicago
BEGIN:STANDARD
TZNAME:CST
DTSTART:20221106T020000
TZOFFSETFROM:-0500
TZOFFSETTO:-0600
RDATE:20231105T020000
RDATE:20241103T020000
END:STANDARD
BEGIN:DAYLIGHT
TZNAME:CDT
DTSTART:20230312T020000
TZOFFSETFROM:-0600
TZOFFSETTO:-0500
RDATE:20240310T020000
RDATE:20250309T020000
END:DAYLIGHT
END:VTIMEZONE
BEGIN:VEVENT
UID:9fee173a-7169-4643-8b5b-405437b07b18
DTSTAMP:20260422T122932Z
DESCRIPTION:<b>This session has been canceled. Please check out our other w
 orkshops on our online calendar. Thanks for your interest!</b>\n\nWe can a
 ll save lives.\n\nThe QPR mission is to reduce suicidal behaviors and save
  lives by providing innovative\, practical and proven suicide prevention t
 raining. The signs of crisis are all around us. We believe that quality ed
 ucation empowers all people\, regardless of their background\, to make a p
 ositive difference in the life of someone they know.\n\nThis two-hour inte
 ractive introduction to suicide awareness and prevention will also cover s
 tatistics and intervention strategies.\n\n<b>This session is open to every
 one and is offered free of charge. We appreciate your interest in learning
  more about mental health and wellness.</b>
DTSTART;TZID=America/Chicago:20230920T180000
DTEND;TZID=America/Chicago:20230920T193000
LOCATION:via Zoom
SUMMARY:Canceled: QPR Question Persuade Refer Suicide Prevention Training |
  September 20\, 2023 evening
END:VEVENT
END:VCALENDAR
