BEGIN:VCALENDAR
VERSION:2.0
PRODID:-//ppi.communityadvocates.net//NONSGML kigkonsult.se iCalcreator 2.3
 0.10//
CALSCALE:GREGORIAN
METHOD:PUBLISH
UID:220c7786-69cf-454b-a564-270110c8c3e1
X-WR-CALDESC:The QPR mission is to reduce suicidal behaviors and save lives
  by providing innovative\, practical and proven suicide prevention trainin
 g. RSVPs are appreciated at the link below but not required.
X-WR-RELCALID:cc3af357c248282ff8d7a2ccfa5ccaee
X-WR-TIMEZONE:America/Chicago
BEGIN:VTIMEZONE
TZID:America/Chicago
BEGIN:STANDARD
TZNAME:CST
DTSTART:20221106T020000
TZOFFSETFROM:-0500
TZOFFSETTO:-0600
RDATE:20231105T020000
RDATE:20241103T020000
END:STANDARD
BEGIN:DAYLIGHT
TZNAME:CDT
DTSTART:20230312T020000
TZOFFSETFROM:-0600
TZOFFSETTO:-0500
RDATE:20240310T020000
RDATE:20250309T020000
END:DAYLIGHT
END:VTIMEZONE
BEGIN:VEVENT
UID:883043ee-7a70-44c2-aae7-348504335a26
DTSTAMP:20260422T123115Z
DESCRIPTION:The QPR mission is to reduce suicidal behaviors and save lives 
 by providing innovative\, practical and proven suicide prevention training
 . RSVPs are appreciated at the link below but not required.
DTSTART;TZID=America/Chicago:20230918T150000
DTEND;TZID=America/Chicago:20230918T163000
LOCATION:Milwaukee Public Library - Capitol Branch\, 3969 N. 74th St.\, Mil
 waukee\, WI 53216 US
SUMMARY:QPR (Question\, Persuade\, Refer) Suicide Awareness
END:VEVENT
END:VCALENDAR
