BEGIN:VCALENDAR
VERSION:2.0
PRODID:-//ppi.communityadvocates.net//NONSGML kigkonsult.se iCalcreator 2.3
 0.10//
CALSCALE:GREGORIAN
METHOD:PUBLISH
UID:95a30319-ca09-4238-a689-bf16ce790ba7
X-WR-CALDESC:Our offices will be closed Monday\, September 4\, to observe L
 abor Day. We'll be back in touch on Tuesday.
X-WR-RELCALID:e5d4cbaa3f09bd9213783eb0ce69880d
X-WR-TIMEZONE:America/Chicago
BEGIN:VTIMEZONE
TZID:America/Chicago
BEGIN:STANDARD
TZNAME:CST
DTSTART:20221106T020000
TZOFFSETFROM:-0500
TZOFFSETTO:-0600
RDATE:20231105T020000
RDATE:20241103T020000
END:STANDARD
BEGIN:DAYLIGHT
TZNAME:CDT
DTSTART:20230312T020000
TZOFFSETFROM:-0600
TZOFFSETTO:-0500
RDATE:20240310T020000
END:DAYLIGHT
END:VTIMEZONE
BEGIN:VEVENT
UID:fd9d8620-b8dd-4345-96b7-a5362d3d4691
DTSTAMP:20260422T123518Z
DESCRIPTION:Our offices will be closed Monday\, September 4\, to observe La
 bor Day. We'll be back in touch on Tuesday.
DTSTART;TZID=America/Chicago:20230904T000000
DTEND;TZID=America/Chicago:20230904T235900
LOCATION:
SUMMARY:Labor Day
END:VEVENT
END:VCALENDAR
