BEGIN:VCALENDAR
VERSION:2.0
PRODID:-//ppi.communityadvocates.net//NONSGML kigkonsult.se iCalcreator 2.3
 0.10//
CALSCALE:GREGORIAN
METHOD:PUBLISH
UID:9f804a14-1230-44d0-b442-de88ee816d0e
X-WR-CALDESC:Friends\, family\, and survivors of overdose are invited to co
 nnect with community organizations\, memorialize their lost loved ones\, a
 nd get resources to prevent overdose at three locations in Milwaukee Count
 y.\n\n10 am-12 noon: Samad’s House\, 2875 N. 23rd St.\n1-3 pm: UMOS\, 2701
  S. Chase Ave.\n4-8 pm: RISE Drug Free MKE & Team Havoc\, Mitchell Park Pa
 vilion\, 524 S. Layton Blvd.\n\nFree Narcan | Fentanyl Test Strips\nMemori
 al Tree | Grief Counselors\nMemorial Lantern Release @ 7 pm at Mitchell Pa
 rk Pavilion\n\nR﻿SVP now!\n\nThis event is presented by RISE Drug Free MKE
  with support from Milwaukee County Behavioral Health Services.\n\nPartner
 s: City of Milwaukee Health Department | CleanSlate Medical Group | Commun
 ity Advocates Public Policy Institute | Community Medical Services | Medic
 al College of Wisconsin | Milwaukee County Behavioral Health Services |Mil
 waukee Fire Department | Nar-Anon | Onepillkills | RISE Drug Free MKE | Sa
 mad’s House | Street Angels | Team HAVOC | UMOS Inc. | Vivent Health | Wau
 watosa Health Department
X-WR-RELCALID:b9524cd59d9964be96b4d3c53d07dcf6
X-WR-TIMEZONE:America/Chicago
BEGIN:VTIMEZONE
TZID:America/Chicago
BEGIN:STANDARD
TZNAME:CST
DTSTART:20221106T020000
TZOFFSETFROM:-0500
TZOFFSETTO:-0600
RDATE:20231105T020000
RDATE:20241103T020000
END:STANDARD
BEGIN:DAYLIGHT
TZNAME:CDT
DTSTART:20230312T020000
TZOFFSETFROM:-0600
TZOFFSETTO:-0500
RDATE:20240310T020000
END:DAYLIGHT
END:VTIMEZONE
BEGIN:VEVENT
UID:cd09430e-4660-4890-a420-8bc7202eb3c7
DTSTAMP:20260422T111614Z
DESCRIPTION:Friends\, family\, and survivors of overdose are invited to con
 nect with community organizations\, memorialize their lost loved ones\, an
 d get resources to prevent overdose at three locations in Milwaukee County
 .\n\n10 am-12 noon: Samad’s House\, 2875 N. 23rd St.\n1-3 pm: UMOS\, 2701 
 S. Chase Ave.\n4-8 pm: RISE Drug Free MKE & Team Havoc\, Mitchell Park Pav
 ilion\, 524 S. Layton Blvd.\n\nFree Narcan | Fentanyl Test Strips\nMemoria
 l Tree | Grief Counselors\nMemorial Lantern Release @ 7 pm at Mitchell Par
 k Pavilion\n\nR﻿SVP now!\n\nThis event is presented by RISE Drug Free MKE 
 with support from Milwaukee County Behavioral Health Services.\n\nPartners
 : City of Milwaukee Health Department | CleanSlate Medical Group | Communi
 ty Advocates Public Policy Institute | Community Medical Services | Medica
 l College of Wisconsin | Milwaukee County Behavioral Health Services |Milw
 aukee Fire Department | Nar-Anon | Onepillkills | RISE Drug Free MKE | Sam
 ad’s House | Street Angels | Team HAVOC | UMOS Inc. | Vivent Health | Wauw
 atosa Health Department
DTSTART;TZID=America/Chicago:20230831T100000
DTEND;TZID=America/Chicago:20230831T120000
LOCATION:Samad's House\, 2875 N. 23rd St.\, MILWAUKEE\, WI 53206 US
SUMMARY:Overdose Awareness Day - Samad's House
END:VEVENT
END:VCALENDAR
