BEGIN:VCALENDAR
VERSION:2.0
PRODID:-//ppi.communityadvocates.net//NONSGML kigkonsult.se iCalcreator 2.3
 0.10//
CALSCALE:GREGORIAN
METHOD:PUBLISH
UID:2cb9e373-c6d7-465c-8bbc-879cd958e4d7
X-WR-CALDESC:Hear from Milwaukee Alder Jonathan Brostoff and Molly Collins\
 , Wisconsin Advocacy Director for the American Lung Association\, on how a
 nd why Milwaukee leaders unanimously voted to adopt new smoke and vape sho
 ps in the city. Facilitated by PPI’s Charlie Leonard\, Coordinator of the 
 City of Milwaukee Tobacco Free Alliance\, this session is exclusively for 
 PPI Network Members. If you are a PPI Member\, please email Lisa Kaiser to
  register.
X-WR-RELCALID:fcd197e32487a6bf2a8dcf0ed4345b95
X-WR-TIMEZONE:America/Chicago
BEGIN:VTIMEZONE
TZID:America/Chicago
BEGIN:STANDARD
TZNAME:CST
DTSTART:20221106T020000
TZOFFSETFROM:-0500
TZOFFSETTO:-0600
RDATE:20231105T020000
RDATE:20241103T020000
END:STANDARD
BEGIN:DAYLIGHT
TZNAME:CDT
DTSTART:20230312T020000
TZOFFSETFROM:-0600
TZOFFSETTO:-0500
RDATE:20240310T020000
END:DAYLIGHT
END:VTIMEZONE
BEGIN:VEVENT
UID:12c38c92-5b91-4873-8b64-91bc33a3568a
DTSTAMP:20260422T112012Z
DESCRIPTION:Hear from Milwaukee Alder Jonathan Brostoff and Molly Collins\,
  Wisconsin Advocacy Director for the American Lung Association\, on how an
 d why Milwaukee leaders unanimously voted to adopt new smoke and vape shop
 s in the city. Facilitated by PPI’s Charlie Leonard\, Coordinator of the C
 ity of Milwaukee Tobacco Free Alliance\, this session is exclusively for P
 PI Network Members. If you are a PPI Member\, please email Lisa Kaiser to 
 register.
DTSTART;TZID=America/Chicago:20230829T120000
DTEND;TZID=America/Chicago:20230829T130000
LOCATION:via Zoom
SUMMARY:Milwaukee’s Smoke & Vape Shop Ordinance Lunch & Learn for PPI Membe
 rs
END:VEVENT
END:VCALENDAR
