BEGIN:VCALENDAR
VERSION:2.0
PRODID:-//ppi.communityadvocates.net//NONSGML kigkonsult.se iCalcreator 2.3
 0.10//
CALSCALE:GREGORIAN
METHOD:PUBLISH
UID:ef075ce6-4d06-427e-aace-e036ed7a9127
X-WR-CALDESC:<b>Registration has closed for this workshop. Thanks for your 
 interest in ECOM.</b>\n\nThe Empowerment Coalition of Milwaukee (ECOM) is 
 a monthly gathering of social services professionals\, advocates\, and con
 sumers organized by Community Advocates Public Policy Institute. ECOM meet
 s the third Wednesday of the month throughout the year (except December) a
 nd explores topics that are vital to Milwaukee’s human services profession
 als. This month's topic is re-entry and job services.\n\nFee is $5 for lig
 ht refreshments and materials and can be paid via credit card on this page
 . Registrations are not refundable. Kindly make sure to RSVP by August 11.
X-WR-RELCALID:9dc7ba1c96b59c124760606742f57c20
X-WR-TIMEZONE:America/Chicago
BEGIN:VTIMEZONE
TZID:America/Chicago
BEGIN:STANDARD
TZNAME:CST
DTSTART:20221106T020000
TZOFFSETFROM:-0500
TZOFFSETTO:-0600
RDATE:20231105T020000
RDATE:20241103T020000
END:STANDARD
BEGIN:DAYLIGHT
TZNAME:CDT
DTSTART:20230312T020000
TZOFFSETFROM:-0600
TZOFFSETTO:-0500
RDATE:20240310T020000
END:DAYLIGHT
END:VTIMEZONE
BEGIN:VEVENT
UID:e653a70c-9ef3-46bf-b8c0-f783a35cc091
DTSTAMP:20260422T111639Z
DESCRIPTION:<b>Registration has closed for this workshop. Thanks for your i
 nterest in ECOM.</b>\n\nThe Empowerment Coalition of Milwaukee (ECOM) is a
  monthly gathering of social services professionals\, advocates\, and cons
 umers organized by Community Advocates Public Policy Institute. ECOM meets
  the third Wednesday of the month throughout the year (except December) an
 d explores topics that are vital to Milwaukee’s human services professiona
 ls. This month's topic is re-entry and job services.\n\nFee is $5 for ligh
 t refreshments and materials and can be paid via credit card on this page.
  Registrations are not refundable. Kindly make sure to RSVP by August 11.
DTSTART;TZID=America/Chicago:20230816T090000
DTEND;TZID=America/Chicago:20230816T120000
LOCATION:Location TBD
SUMMARY:ECOM Workshop: Re-entry Services and Job Services
END:VEVENT
END:VCALENDAR
