BEGIN:VCALENDAR
VERSION:2.0
PRODID:-//ppi.communityadvocates.net//NONSGML kigkonsult.se iCalcreator 2.3
 0.10//
CALSCALE:GREGORIAN
METHOD:PUBLISH
UID:0b43f05d-5736-4969-9c1a-8c48dfe11313
X-WR-CALDESC:<b>We're very sorry but we're canceling this event because of 
 potential storms on Friday evening. We will reschedule for a later date. S
 orry for the inconvenience!</b>\n\nDiscover Wellness during this FREE\, fa
 mily-friendly event! Stop by Johnsons Park for healthy and fun activities\
 , resources\, food\, and a movie from neighborhood and community organizat
 ions. \n\nFREE healthy snacks\, activities\, resources\, giveaways\, raffl
 es from 5 to 7 pm -- and a showing of SING 2 at 7 pm!\n\nPartners are: Cud
 ahy Health Department\, Goal Chasers 2000\, House of Kings and Priests\, N
 eu-Life Community Development\, Oak Creek Health Department\, The Parentin
 g Network\, RISE Drug Free MKE\, Wauwatosa Health Department\, and Communi
 ty Advocates.
X-WR-RELCALID:a489e1e12ac96f4db87de9e9a2342a37
X-WR-TIMEZONE:America/Chicago
BEGIN:VTIMEZONE
TZID:America/Chicago
BEGIN:STANDARD
TZNAME:CST
DTSTART:20221106T020000
TZOFFSETFROM:-0500
TZOFFSETTO:-0600
RDATE:20231105T020000
RDATE:20241103T020000
END:STANDARD
BEGIN:DAYLIGHT
TZNAME:CDT
DTSTART:20230312T020000
TZOFFSETFROM:-0600
TZOFFSETTO:-0500
RDATE:20240310T020000
END:DAYLIGHT
END:VTIMEZONE
BEGIN:VEVENT
UID:4729dc31-e061-4d5e-a18a-ee733368454a
DTSTAMP:20260422T111622Z
DESCRIPTION:<b>We're very sorry but we're canceling this event because of p
 otential storms on Friday evening. We will reschedule for a later date. So
 rry for the inconvenience!</b>\n\nDiscover Wellness during this FREE\, fam
 ily-friendly event! Stop by Johnsons Park for healthy and fun activities\,
  resources\, food\, and a movie from neighborhood and community organizati
 ons. \n\nFREE healthy snacks\, activities\, resources\, giveaways\, raffle
 s from 5 to 7 pm -- and a showing of SING 2 at 7 pm!\n\nPartners are: Cuda
 hy Health Department\, Goal Chasers 2000\, House of Kings and Priests\, Ne
 u-Life Community Development\, Oak Creek Health Department\, The Parenting
  Network\, RISE Drug Free MKE\, Wauwatosa Health Department\, and Communit
 y Advocates.
DTSTART;TZID=America/Chicago:20230811T170000
DTEND;TZID=America/Chicago:20230811T190000
LOCATION:
SUMMARY:Canceled: Discover Wellness
END:VEVENT
END:VCALENDAR
