BEGIN:VCALENDAR
VERSION:2.0
PRODID:-//ppi.communityadvocates.net//NONSGML kigkonsult.se iCalcreator 2.3
 0.10//
CALSCALE:GREGORIAN
METHOD:PUBLISH
UID:1ca60398-0b63-4f36-9595-d034fd890f15
X-WR-CALDESC:<b>This session is only for Community Advocates-funded facilit
 ators of Botvin’s LifeSkills Training. </b>\n\nThe training will cover tea
 ching techniques\, coaching\, and behavioral rehearsal to ensure that part
 icipants fully understand the program.\n\nIt's organized by Alliance for W
 isconsin Youth\, Community Advocates Public Policy Institute\, and The Par
 enting Network.
X-WR-RELCALID:84a95c9d34961ffabd280aaeeb158599
X-WR-TIMEZONE:America/Chicago
BEGIN:VTIMEZONE
TZID:America/Chicago
BEGIN:STANDARD
TZNAME:CST
DTSTART:20221106T020000
TZOFFSETFROM:-0500
TZOFFSETTO:-0600
RDATE:20231105T020000
RDATE:20241103T020000
END:STANDARD
BEGIN:DAYLIGHT
TZNAME:CDT
DTSTART:20230312T020000
TZOFFSETFROM:-0600
TZOFFSETTO:-0500
RDATE:20240310T020000
END:DAYLIGHT
END:VTIMEZONE
BEGIN:VEVENT
UID:23086582-49de-4dd0-a805-a186d9c023ac
DTSTAMP:20260422T095012Z
DESCRIPTION:<b>This session is only for Community Advocates-funded facilita
 tors of Botvin’s LifeSkills Training. </b>\n\nThe training will cover teac
 hing techniques\, coaching\, and behavioral rehearsal to ensure that parti
 cipants fully understand the program.\n\nIt's organized by Alliance for Wi
 sconsin Youth\, Community Advocates Public Policy Institute\, and The Pare
 nting Network.
DTSTART;TZID=America/Chicago:20230728T090000
DTEND;TZID=America/Chicago:20230728T150000
LOCATION:Community Advocates\, 728 N. James Lovell St.\, 2nd Floor\, Milwau
 kee\, WI 53233 US
SUMMARY:LifeSkills Facilitators Training
END:VEVENT
END:VCALENDAR
