BEGIN:VCALENDAR
VERSION:2.0
PRODID:-//ppi.communityadvocates.net//NONSGML kigkonsult.se iCalcreator 2.3
 0.10//
CALSCALE:GREGORIAN
METHOD:PUBLISH
UID:914c0c3f-87cf-425f-a834-33a401be54ba
X-WR-CALDESC:Learn how a child’s brain reacts to stress\, how to calm your 
 child\, how to de-escalate yourself. This workshop is for adults. Child ca
 re is not provided. RSVPs are appreciated at the link below but not requir
 ed.
X-WR-RELCALID:e3c528b216938d48b70267c24d883bb2
X-WR-TIMEZONE:America/Chicago
BEGIN:VTIMEZONE
TZID:America/Chicago
BEGIN:STANDARD
TZNAME:CST
DTSTART:20221106T020000
TZOFFSETFROM:-0500
TZOFFSETTO:-0600
RDATE:20231105T020000
RDATE:20241103T020000
END:STANDARD
BEGIN:DAYLIGHT
TZNAME:CDT
DTSTART:20230312T020000
TZOFFSETFROM:-0600
TZOFFSETTO:-0500
RDATE:20240310T020000
END:DAYLIGHT
END:VTIMEZONE
BEGIN:VEVENT
UID:30c4ac6d-a97c-4886-bbd3-50d990631a34
DTSTAMP:20260422T095245Z
DESCRIPTION:Learn how a child’s brain reacts to stress\, how to calm your c
 hild\, how to de-escalate yourself. This workshop is for adults. Child car
 e is not provided. RSVPs are appreciated at the link below but not require
 d.
DTSTART;TZID=America/Chicago:20230725T180000
DTEND;TZID=America/Chicago:20230725T193000
LOCATION:Milwaukee Public Library - Capitol Branch\, 3969 N. 74th St.\, Mil
 waukee\, WI 53216 US
SUMMARY:Defusing Your Child’s Tantrum: 7 Strategies to De-Escalate Your Chi
 ld and Yourself
END:VEVENT
END:VCALENDAR
