BEGIN:VCALENDAR
VERSION:2.0
PRODID:-//ppi.communityadvocates.net//NONSGML kigkonsult.se iCalcreator 2.3
 0.10//
CALSCALE:GREGORIAN
METHOD:PUBLISH
UID:83c285fa-f1a6-4f9f-8b88-55eb37a2c153
X-WR-CALDESC:Learn how a child’s brain reacts to stress\, how to calm your 
 child\, how to de-escalate yourself. This workshop is for adults. Child ca
 re is not provided. RSVPs are appreciated at the link below but not requir
 ed.
X-WR-RELCALID:cd6bece7bda4bd52eb4c80c1268f70e5
X-WR-TIMEZONE:America/Chicago
BEGIN:VTIMEZONE
TZID:America/Chicago
BEGIN:STANDARD
TZNAME:CST
DTSTART:20221106T020000
TZOFFSETFROM:-0500
TZOFFSETTO:-0600
RDATE:20231105T020000
RDATE:20241103T020000
END:STANDARD
BEGIN:DAYLIGHT
TZNAME:CDT
DTSTART:20230312T020000
TZOFFSETFROM:-0600
TZOFFSETTO:-0500
RDATE:20240310T020000
END:DAYLIGHT
END:VTIMEZONE
BEGIN:VEVENT
UID:163b76e4-4a60-4a0c-96a3-52eee8bce1c2
DTSTAMP:20260422T095412Z
DESCRIPTION:Learn how a child’s brain reacts to stress\, how to calm your c
 hild\, how to de-escalate yourself. This workshop is for adults. Child car
 e is not provided. RSVPs are appreciated at the link below but not require
 d.
DTSTART;TZID=America/Chicago:20230725T150000
DTEND;TZID=America/Chicago:20230725T163000
LOCATION:Milwaukee Public Library - Capitol Branch\, 3969 N. 74th St.\, Mil
 waukee\, WI 53216 US
SUMMARY:Defusing Your Child’s Tantrum: 7 Strategies to De-Escalate Your Chi
 ld and Yourself
END:VEVENT
END:VCALENDAR
