BEGIN:VCALENDAR
VERSION:2.0
PRODID:-//ppi.communityadvocates.net//NONSGML kigkonsult.se iCalcreator 2.3
 0.10//
CALSCALE:GREGORIAN
METHOD:PUBLISH
UID:66777358-8fc0-44ed-9704-5fd08da30293
X-WR-CALDESC:The biennial state budget is now final\, but what does it mean
  for Milwaukee? Community Advocates Public Policy Institute Senior Advocat
 e Julie Kerksick and special guests state Rep. Evan Goyke and state Sen. L
 aTonya Johnson will discuss issues critical to our community’s future\, su
 ch as child care\, tax credits\, and public investments. This budget brief
 ing is open to PPI Network Members only\, and will be held at 4 p.m. on Ju
 ly 24. If you are a PPI Member\, please email Lisa Kaiser to register.
X-WR-RELCALID:ae9586e77bb7a4bfc7c8a34b97776336
X-WR-TIMEZONE:America/Chicago
BEGIN:VTIMEZONE
TZID:America/Chicago
BEGIN:STANDARD
TZNAME:CST
DTSTART:20221106T020000
TZOFFSETFROM:-0500
TZOFFSETTO:-0600
RDATE:20231105T020000
RDATE:20241103T020000
END:STANDARD
BEGIN:DAYLIGHT
TZNAME:CDT
DTSTART:20230312T020000
TZOFFSETFROM:-0600
TZOFFSETTO:-0500
RDATE:20240310T020000
END:DAYLIGHT
END:VTIMEZONE
BEGIN:VEVENT
UID:c81a2abd-b79b-4039-82b2-914438837c19
DTSTAMP:20260422T095017Z
DESCRIPTION:The biennial state budget is now final\, but what does it mean 
 for Milwaukee? Community Advocates Public Policy Institute Senior Advocate
  Julie Kerksick and special guests state Rep. Evan Goyke and state Sen. La
 Tonya Johnson will discuss issues critical to our community’s future\, suc
 h as child care\, tax credits\, and public investments. This budget briefi
 ng is open to PPI Network Members only\, and will be held at 4 p.m. on Jul
 y 24. If you are a PPI Member\, please email Lisa Kaiser to register.
DTSTART;TZID=America/Chicago:20230724T160000
DTEND;TZID=America/Chicago:20230724T170000
LOCATION:via Zoom
SUMMARY:State Budget Debrief for PPI Members
END:VEVENT
END:VCALENDAR
