BEGIN:VCALENDAR
VERSION:2.0
PRODID:-//ppi.communityadvocates.net//NONSGML kigkonsult.se iCalcreator 2.3
 0.10//
CALSCALE:GREGORIAN
METHOD:PUBLISH
UID:ce0d6f2a-6300-4046-88c0-1f6947637f59
X-WR-CALDESC:<b>Registration for this workshop is closed.</b>\n\nThe Empowe
 rment Coalition of Milwaukee (ECOM) is a monthly gathering of social servi
 ces professionals\, advocates\, and consumers organized by Community Advoc
 ates Public Policy Institute. ECOM meets the third Wednesday of the month 
 throughout the year (except December) and explores topics that are vital t
 o Milwaukee’s human services professionals. This month's topic is Domestic
  Violence\, Elder and Child Abuse.\n\nFee is $5 for light refreshments and
  materials and can be paid via credit card on this page. Registrations are
  not refundable. Kindly make sure to RSVP by the Friday prior to each meet
 ing.
X-WR-RELCALID:ab2faf4fb5c0f51e6cb9505f88521090
X-WR-TIMEZONE:America/Chicago
BEGIN:VTIMEZONE
TZID:America/Chicago
BEGIN:STANDARD
TZNAME:CST
DTSTART:20221106T020000
TZOFFSETFROM:-0500
TZOFFSETTO:-0600
RDATE:20231105T020000
RDATE:20241103T020000
END:STANDARD
BEGIN:DAYLIGHT
TZNAME:CDT
DTSTART:20230312T020000
TZOFFSETFROM:-0600
TZOFFSETTO:-0500
RDATE:20240310T020000
END:DAYLIGHT
END:VTIMEZONE
BEGIN:VEVENT
UID:2764376e-9f01-4fea-8ed7-9ec21c0cae12
DTSTAMP:20260422T095213Z
DESCRIPTION:<b>Registration for this workshop is closed.</b>\n\nThe Empower
 ment Coalition of Milwaukee (ECOM) is a monthly gathering of social servic
 es professionals\, advocates\, and consumers organized by Community Advoca
 tes Public Policy Institute. ECOM meets the third Wednesday of the month t
 hroughout the year (except December) and explores topics that are vital to
  Milwaukee’s human services professionals. This month's topic is Domestic 
 Violence\, Elder and Child Abuse.\n\nFee is $5 for light refreshments and 
 materials and can be paid via credit card on this page. Registrations are 
 not refundable. Kindly make sure to RSVP by the Friday prior to each meeti
 ng.
DTSTART;TZID=America/Chicago:20230719T090000
DTEND;TZID=America/Chicago:20230719T120000
LOCATION:Location TBD
SUMMARY:ECOM Workshop: Domestic Violence\, Elder and Child Abuse
END:VEVENT
END:VCALENDAR
