BEGIN:VCALENDAR
VERSION:2.0
PRODID:-//ppi.communityadvocates.net//NONSGML kigkonsult.se iCalcreator 2.3
 0.10//
CALSCALE:GREGORIAN
METHOD:PUBLISH
UID:cb5db32e-56bd-4f13-b0ab-b67fa4aa32c5
X-WR-CALDESC:Our offices will be closed July 3 and July 4 to observe Indepe
 ndence Day. We'll be back in touch on July 5.
X-WR-RELCALID:fc6907340cbc56c538cbc0de505befd9
X-WR-TIMEZONE:America/Chicago
BEGIN:VTIMEZONE
TZID:America/Chicago
BEGIN:STANDARD
TZNAME:CST
DTSTART:20221106T020000
TZOFFSETFROM:-0500
TZOFFSETTO:-0600
RDATE:20231105T020000
RDATE:20241103T020000
END:STANDARD
BEGIN:DAYLIGHT
TZNAME:CDT
DTSTART:20230312T020000
TZOFFSETFROM:-0600
TZOFFSETTO:-0500
RDATE:20240310T020000
END:DAYLIGHT
END:VTIMEZONE
BEGIN:VEVENT
UID:79a9fed0-5f17-470d-bba9-2339a7378724
DTSTAMP:20260422T095024Z
DESCRIPTION:Our offices will be closed July 3 and July 4 to observe Indepen
 dence Day. We'll be back in touch on July 5.
DTSTART;TZID=America/Chicago:20230703T000000
DTEND;TZID=America/Chicago:20230704T235900
LOCATION:
SUMMARY:Independence Day Holiday
END:VEVENT
END:VCALENDAR
