BEGIN:VCALENDAR
VERSION:2.0
PRODID:-//ppi.communityadvocates.net//NONSGML kigkonsult.se iCalcreator 2.3
 0.10//
CALSCALE:GREGORIAN
METHOD:PUBLISH
UID:549d7df8-de6c-4713-8f44-059d9d125988
X-WR-CALDESC:<b>Please Note: The Youth Mental Health First Aid course consi
 sts of two hours of self-paced content followed by 4.5 hours of instructor
 -led training. The self-paced computer training must be completed at least
  three days prior to the beginning of the course and the one-hour self-pac
 ed post session computer training must be completed as well in order for a
 ttendees to obtain certification. Registration ends June 23.</b>\n\nYouth 
 Mental Health First Aid is designed to teach parents\, family members\, ca
 regivers\, teachers\, school staff\, peers\, neighbors\, health and human 
 services workers\, and other caring citizens how to help an adolescent (ag
 e 12-18) who is experiencing a mental health or addictions challenge or is
  in crisis.\n\nThe course introduces common mental health challenges for y
 outh\, reviews typical adolescent development\, and teaches a 5-step actio
 n plan for how to help young people in both crisis and non-crisis situatio
 ns.\n\nTopics covered include:\n+ Anxiety\n+ Depression\n+ Substance use\n
 + Disorders in which psychosis may occur\n+ Disruptive behavior disorders 
 (including AD/HD)\n+ Eating disorders\n\n<b>This session is open to everyo
 ne\, but it's free for those who live or work in Milwaukee County. However
 \, we ask that you reserve your seat with a $25 deposit. Those who live or
  work in Milwaukee County will have their deposit refunded after they atte
 nd the workshop. Those who don't attend\, or live and work outside of Milw
 aukee County\, will not receive a refund. Thank you! We appreciate your in
 terest in learning more about mental health and wellness.</b>
X-WR-RELCALID:f3a6599e672052cdfcaf1663d3c6d85b
X-WR-TIMEZONE:America/Chicago
BEGIN:VTIMEZONE
TZID:America/Chicago
BEGIN:STANDARD
TZNAME:CST
DTSTART:20221106T020000
TZOFFSETFROM:-0500
TZOFFSETTO:-0600
RDATE:20231105T020000
RDATE:20241103T020000
END:STANDARD
BEGIN:DAYLIGHT
TZNAME:CDT
DTSTART:20230312T020000
TZOFFSETFROM:-0600
TZOFFSETTO:-0500
RDATE:20240310T020000
END:DAYLIGHT
END:VTIMEZONE
BEGIN:VEVENT
UID:e6441271-b435-40b2-a099-9fa9a6410b7b
DTSTAMP:20260422T082446Z
DESCRIPTION:<b>Please Note: The Youth Mental Health First Aid course consis
 ts of two hours of self-paced content followed by 4.5 hours of instructor-
 led training. The self-paced computer training must be completed at least 
 three days prior to the beginning of the course and the one-hour self-pace
 d post session computer training must be completed as well in order for at
 tendees to obtain certification. Registration ends June 23.</b>\n\nYouth M
 ental Health First Aid is designed to teach parents\, family members\, car
 egivers\, teachers\, school staff\, peers\, neighbors\, health and human s
 ervices workers\, and other caring citizens how to help an adolescent (age
  12-18) who is experiencing a mental health or addictions challenge or is 
 in crisis.\n\nThe course introduces common mental health challenges for yo
 uth\, reviews typical adolescent development\, and teaches a 5-step action
  plan for how to help young people in both crisis and non-crisis situation
 s.\n\nTopics covered include:\n+ Anxiety\n+ Depression\n+ Substance use\n+
  Disorders in which psychosis may occur\n+ Disruptive behavior disorders (
 including AD/HD)\n+ Eating disorders\n\n<b>This session is open to everyon
 e\, but it's free for those who live or work in Milwaukee County. However\
 , we ask that you reserve your seat with a $25 deposit. Those who live or 
 work in Milwaukee County will have their deposit refunded after they atten
 d the workshop. Those who don't attend\, or live and work outside of Milwa
 ukee County\, will not receive a refund. Thank you! We appreciate your int
 erest in learning more about mental health and wellness.</b>
DTSTART;TZID=America/Chicago:20230630T090000
DTEND;TZID=America/Chicago:20230630T153000
LOCATION:via Zoom
SUMMARY:Youth Mental Health First Aid | June 30\, 2023
END:VEVENT
END:VCALENDAR
