BEGIN:VCALENDAR
VERSION:2.0
PRODID:-//ppi.communityadvocates.net//NONSGML kigkonsult.se iCalcreator 2.3
 0.10//
CALSCALE:GREGORIAN
METHOD:PUBLISH
UID:44f78bc5-367b-4b6b-9071-85ca2c08ac8c
X-WR-CALDESC:The Empowerment Coalition of Milwaukee (ECOM) is a monthly gat
 hering of social services professionals\, advocates\, and consumers organi
 zed by Community Advocates Public Policy Institute. ECOM meets the third W
 ednesday of the month throughout the year (except December) and explores t
 opics that are vital to Milwaukee’s human services professionals. This mon
 th's topic is Human Trafficking/Exploitation and Sex Work.\n\nFee is $5 fo
 r light refreshments and materials and can be paid via credit card on this
  page. Registrations are not refundable. Kindly make sure to RSVP by the F
 riday prior to each meeting.
X-WR-RELCALID:dc4ff7f4bdb9cbe90b0112352ff504c8
X-WR-TIMEZONE:America/Chicago
BEGIN:VTIMEZONE
TZID:America/Chicago
BEGIN:STANDARD
TZNAME:CST
DTSTART:20221106T020000
TZOFFSETFROM:-0500
TZOFFSETTO:-0600
RDATE:20231105T020000
RDATE:20241103T020000
END:STANDARD
BEGIN:DAYLIGHT
TZNAME:CDT
DTSTART:20230312T020000
TZOFFSETFROM:-0600
TZOFFSETTO:-0500
RDATE:20240310T020000
END:DAYLIGHT
END:VTIMEZONE
BEGIN:VEVENT
UID:14575793-67e6-4432-bffc-733c7c4ffb42
DTSTAMP:20260422T082700Z
DESCRIPTION:The Empowerment Coalition of Milwaukee (ECOM) is a monthly gath
 ering of social services professionals\, advocates\, and consumers organiz
 ed by Community Advocates Public Policy Institute. ECOM meets the third We
 dnesday of the month throughout the year (except December) and explores to
 pics that are vital to Milwaukee’s human services professionals. This mont
 h's topic is Human Trafficking/Exploitation and Sex Work.\n\nFee is $5 for
  light refreshments and materials and can be paid via credit card on this 
 page. Registrations are not refundable. Kindly make sure to RSVP by the Fr
 iday prior to each meeting.
DTSTART;TZID=America/Chicago:20230621T090000
DTEND;TZID=America/Chicago:20230621T120000
LOCATION:United Way of Greater Milwaukee & Waukesha County\, 200 W. Pleasan
 t St.\, Milwaukee\, WI 53212 US
SUMMARY:ECOM Workshop: Human Trafficking/Exploitation and Sex Work
END:VEVENT
END:VCALENDAR
