BEGIN:VCALENDAR
VERSION:2.0
PRODID:-//ppi.communityadvocates.net//NONSGML kigkonsult.se iCalcreator 2.3
 0.10//
CALSCALE:GREGORIAN
METHOD:PUBLISH
UID:27c1efb9-45af-4ea4-ba99-76950c7f6215
X-WR-CALDESC:We can all save lives.\n\nThe QPR mission is to reduce suicida
 l behaviors and save lives by providing innovative\, practical and proven 
 suicide prevention training. The signs of crisis are all around us. We bel
 ieve that quality education empowers all people\, regardless of their back
 ground\, to make a positive difference in the life of someone they know.\n
 \nThis two-hour interactive introduction to suicide awareness and preventi
 on will also cover statistics and intervention strategies.\n\n<b>This sess
 ion is open to everyone\, but it's free for those who live or work in Milw
 aukee County. However\, we ask that you reserve your seat with a $25 depos
 it. Those who live or work in Milwaukee County will have their deposit ref
 unded after they attend the workshop. Those who don't attend\, or live and
  work outside of Milwaukee County\, will not receive a refund. Thank you! 
 We appreciate your interest in learning more about mental health and welln
 ess.</b>
X-WR-RELCALID:a3d861c4052e18818babd9f6b2345063
X-WR-TIMEZONE:America/Chicago
BEGIN:VTIMEZONE
TZID:America/Chicago
BEGIN:STANDARD
TZNAME:CST
DTSTART:20221106T020000
TZOFFSETFROM:-0500
TZOFFSETTO:-0600
RDATE:20231105T020000
RDATE:20241103T020000
END:STANDARD
BEGIN:DAYLIGHT
TZNAME:CDT
DTSTART:20230312T020000
TZOFFSETFROM:-0600
TZOFFSETTO:-0500
RDATE:20240310T020000
END:DAYLIGHT
END:VTIMEZONE
BEGIN:VEVENT
UID:67656cb7-baa0-45d9-8dd2-bdf7484cc7b3
DTSTAMP:20260422T083905Z
DESCRIPTION:We can all save lives.\n\nThe QPR mission is to reduce suicidal
  behaviors and save lives by providing innovative\, practical and proven s
 uicide prevention training. The signs of crisis are all around us. We beli
 eve that quality education empowers all people\, regardless of their backg
 round\, to make a positive difference in the life of someone they know.\n
 \nThis two-hour interactive introduction to suicide awareness and preventi
 on will also cover statistics and intervention strategies.\n\n<b>This sess
 ion is open to everyone\, but it's free for those who live or work in Milw
 aukee County. However\, we ask that you reserve your seat with a $25 depos
 it. Those who live or work in Milwaukee County will have their deposit ref
 unded after they attend the workshop. Those who don't attend\, or live and
  work outside of Milwaukee County\, will not receive a refund. Thank you! 
 We appreciate your interest in learning more about mental health and welln
 ess.</b>
DTSTART;TZID=America/Chicago:20230620T090000
DTEND;TZID=America/Chicago:20230620T103000
LOCATION:via Zoom
SUMMARY:QPR Question Persuade Refer Suicide Prevention Training | June 20\,
  2023
END:VEVENT
END:VCALENDAR
