BEGIN:VCALENDAR
VERSION:2.0
PRODID:-//ppi.communityadvocates.net//NONSGML kigkonsult.se iCalcreator 2.3
 0.10//
CALSCALE:GREGORIAN
METHOD:PUBLISH
UID:9af4dd35-224b-43b2-96db-6b604f11713a
X-WR-CALDESC:Our offices are closed today to observe Juneteenth Day. We'll 
 be back in touch on Tuesday.
X-WR-RELCALID:38f496ab8df6681385ffbbdb3624e020
X-WR-TIMEZONE:America/Chicago
BEGIN:VTIMEZONE
TZID:America/Chicago
BEGIN:STANDARD
TZNAME:CST
DTSTART:20221106T020000
TZOFFSETFROM:-0500
TZOFFSETTO:-0600
RDATE:20231105T020000
RDATE:20241103T020000
END:STANDARD
BEGIN:DAYLIGHT
TZNAME:CDT
DTSTART:20230312T020000
TZOFFSETFROM:-0600
TZOFFSETTO:-0500
RDATE:20240310T020000
END:DAYLIGHT
END:VTIMEZONE
BEGIN:VEVENT
UID:99f426e1-807f-4524-81d6-da5e65eab874
DTSTAMP:20260422T082606Z
DESCRIPTION:Our offices are closed today to observe Juneteenth Day. We'll b
 e back in touch on Tuesday.
DTSTART;TZID=America/Chicago:20230619T000000
DTEND;TZID=America/Chicago:20230619T235900
LOCATION:
SUMMARY:Juneteenth
END:VEVENT
END:VCALENDAR
